BEGIN:VCALENDAR
VERSION:2.0
PRODID:-//WPS - Wellington Photographic Society - ECPv6.13.2.1//NONSGML v1.0//EN
CALSCALE:GREGORIAN
METHOD:PUBLISH
X-ORIGINAL-URL:http://wps.wps.org.nz
X-WR-CALDESC:Events for WPS - Wellington Photographic Society
REFRESH-INTERVAL;VALUE=DURATION:PT1H
X-Robots-Tag:noindex
X-PUBLISHED-TTL:PT1H
BEGIN:VTIMEZONE
TZID:Pacific/Auckland
BEGIN:STANDARD
TZOFFSETFROM:+1300
TZOFFSETTO:+1200
TZNAME:NZST
DTSTART:20260404T140000
END:STANDARD
BEGIN:DAYLIGHT
TZOFFSETFROM:+1200
TZOFFSETTO:+1300
TZNAME:NZDT
DTSTART:20260926T140000
END:DAYLIGHT
END:VTIMEZONE
BEGIN:VEVENT
DTSTART;TZID=Pacific/Auckland:20261112T190000
DTEND;TZID=Pacific/Auckland:20261112T210000
DTSTAMP:20260425T014519
CREATED:20260207T074524Z
LAST-MODIFIED:20260207T074524Z
UID:7468-1794510000-1794517200@wps.wps.org.nz
SUMMARY:Regular Thursday meeting
DESCRIPTION:Details to be confirmed as they become available.
URL:http://wps.wps.org.nz/event/regular-thursday-meeting-14/
LOCATION:Tararua Tramping Club
CATEGORIES:Club Meetings
END:VEVENT
BEGIN:VEVENT
DTSTART;TZID=Pacific/Auckland:20261126T190000
DTEND;TZID=Pacific/Auckland:20261126T210000
DTSTAMP:20260425T014519
CREATED:20260207T074622Z
LAST-MODIFIED:20260207T074622Z
UID:7470-1795719600-1795726800@wps.wps.org.nz
SUMMARY:Regular Thursday Meeting
DESCRIPTION:Details to be confirmed as they become available.
URL:http://wps.wps.org.nz/event/regular-thursday-meeting-15/
LOCATION:Tararua Tramping Club
CATEGORIES:Club Meetings
END:VEVENT
END:VCALENDAR