BEGIN:VCALENDAR
VERSION:2.0
PRODID:-//WPS - Wellington Photographic Society - ECPv6.13.2.1//NONSGML v1.0//EN
CALSCALE:GREGORIAN
METHOD:PUBLISH
X-WR-CALNAME:WPS - Wellington Photographic Society
X-ORIGINAL-URL:http://wps.wps.org.nz
X-WR-CALDESC:Events for WPS - Wellington Photographic Society
REFRESH-INTERVAL;VALUE=DURATION:PT1H
X-Robots-Tag:noindex
X-PUBLISHED-TTL:PT1H
BEGIN:VTIMEZONE
TZID:Pacific/Auckland
BEGIN:STANDARD
TZOFFSETFROM:+1300
TZOFFSETTO:+1200
TZNAME:NZST
DTSTART:20260404T140000
END:STANDARD
BEGIN:DAYLIGHT
TZOFFSETFROM:+1200
TZOFFSETTO:+1300
TZNAME:NZDT
DTSTART:20260926T140000
END:DAYLIGHT
END:VTIMEZONE
BEGIN:VEVENT
DTSTART;TZID=Pacific/Auckland:20260425T090000
DTEND;TZID=Pacific/Auckland:20260425T110000
DTSTAMP:20260424T130944
CREATED:20260417T063823Z
LAST-MODIFIED:20260417T063910Z
UID:7533-1777107600-1777114800@wps.wps.org.nz
SUMMARY:Otari Wilton's Bush - Photography Meetup
DESCRIPTION:Join us this Anzac weekend for a meet-up at Otari-Wiltons Bush.\nWe will be on the hunt for all sorts of photographic subjects – fungi\, moss\, birds\, plants and maybe even tuna (eels).\nWe will be meeting at the car park entrance at 9am\, aiming to start walking around 9.10. From there\, we will head along the red path towards the viewing area\, then take the ‘nature walk\,’ joining the purple path to head down towards the picnic area.\n\nVenue: Otari Wiltons Bush – carpark entranceDate: Saturday\, 25th AprilTime: 9am
URL:http://wps.wps.org.nz/event/otari-wiltons-bush-photography-meetup/
LOCATION:Otari Wilton Bush\, 150 Wilton Road\, Wilton
CATEGORIES:Club Meetings,Meet Ups
ATTACH;FMTTYPE=image/jpeg:http://wps.wps.org.nz/wp-content/uploads/2026/04/672011597_10238483110270224_8911789576641115387_n.jpg
END:VEVENT
BEGIN:VEVENT
DTSTART;TZID=Pacific/Auckland:20260611T190000
DTEND;TZID=Pacific/Auckland:20260611T210000
DTSTAMP:20260424T130944
CREATED:20260207T071422Z
LAST-MODIFIED:20260207T071846Z
UID:7439-1781204400-1781211600@wps.wps.org.nz
SUMMARY:Projected Image Competition 2026
DESCRIPTION:Have you been wondering about how your images stack up against other photographers? If so\, you might like to attend our Projected Image competition.This competition is open to all members of the society and is a great chance to share your work with other club members. It should be a fun night\, and there are plenty of great images to inspire you as well. \nEntry\n\nCategory: Open\nEntries Close: 29th of May (Midnight)\nEach member can submit up to three images.\nEntries should be sent to comms@wps.org.nz by midnight\, 29th of May (Midnight).\nFile Specs: Full resolution under 5MB\nFile naming: Number\, First name\, Last Name\, Title (if any)\nColour Mode: RGB colour mode (not Grayscale)\nBit Depth: 8 bits/Channel\nColour Space: SRGB\nJPEG Format: Baseline (“Standard”)\nYour membership (Member Fees) must be current to enter this or any other WPS competitions.\n\n \nFile Naming\nTo avoid mixing up each member’s files\, each image should have a clear file naming structure. It just allows us to keep better track of the images. \n\nNumber_FirstName_Surname_Title.jpg\n\nEntry Rules\n\nAll elements must be the work of (or have been created by) the photographer (entrant).\nThe use of stock photography\, computer-rendered (and AI) or third party content (including skies\, borders or textures) is prohibited. \nAll content and images must be from original exposures made within 24 months of the entry closing date. This includes all composite elements of an image\, such as backgrounds\, skies\, textures and borders.\nImages must not have been entered into other Wellington Photographic Society competitions.\nImages captured\, retouched\, digitally edited or printed over the duration of a workshop\, seminar\, tutorial\, or similar\, where the primary focus is for education\, are ineligible\, irrespective of whether it was under the direct instruction of the presenter or not. This rule only applies to attendees of workshops\, tutorials and educational/training events. Instructors\, students\, emerging members\, and attendees of photo-tours where the primary focus is not educational\, are not restricted. If you have any questions\, regarding the entry or the rules please let us know. Exemptions may be granted in cases of sickness/extenuating circumstances (This will be on a case by case basis)\n\nThe meeting opens at 7:00pm\, presentation is likely to start from 7.15
URL:http://wps.wps.org.nz/event/projected-image-competition-2026/
LOCATION:Tararua Tramping Club
CATEGORIES:Club Meetings
ATTACH;FMTTYPE=image/jpeg:http://wps.wps.org.nz/wp-content/uploads/2026/02/fauzan-saari-pZXg_ObLOM4-unsplash.jpg
END:VEVENT
BEGIN:VEVENT
DTSTART;TZID=Pacific/Auckland:20260625T190000
DTEND;TZID=Pacific/Auckland:20260625T210000
DTSTAMP:20260424T130944
CREATED:20260207T072315Z
LAST-MODIFIED:20260207T072315Z
UID:7444-1782414000-1782421200@wps.wps.org.nz
SUMMARY:Mid-Winter Xmas
DESCRIPTION:Join us this Thursday for our Mid-Winter Xmas and a short photography challenge.\nFriends and Family members are also welcome to attend \n\n\n\nThursday 25th @ Tararua Tramping Hall\, Doors open 7pm
URL:http://wps.wps.org.nz/event/mid-winter-xmas-2/
LOCATION:Tararua Tramping Club
CATEGORIES:Club Meetings
ATTACH;FMTTYPE=image/jpeg:http://wps.wps.org.nz/wp-content/uploads/2026/02/denise-johnson-m4eISQg0e0E-unsplash.jpg
END:VEVENT
BEGIN:VEVENT
DTSTART;TZID=Pacific/Auckland:20260709T190000
DTEND;TZID=Pacific/Auckland:20260709T210000
DTSTAMP:20260424T130944
CREATED:20260207T073202Z
LAST-MODIFIED:20260207T073202Z
UID:7450-1783623600-1783630800@wps.wps.org.nz
SUMMARY:Regular Thursday Meeting
DESCRIPTION:Details to added as they become available.
URL:http://wps.wps.org.nz/event/regular-thursday-meeting-8/
LOCATION:Tararua Tramping Club
CATEGORIES:Club Meetings
END:VEVENT
BEGIN:VEVENT
DTSTART;TZID=Pacific/Auckland:20260723T190000
DTEND;TZID=Pacific/Auckland:20260723T210000
DTSTAMP:20260424T130944
CREATED:20260207T073436Z
LAST-MODIFIED:20260207T073436Z
UID:7452-1784833200-1784840400@wps.wps.org.nz
SUMMARY:Regular Thursday Meeting
DESCRIPTION:Details to be confirmed.
URL:http://wps.wps.org.nz/event/regular-thursday-meeting-9/
LOCATION:Tararua Tramping Club
CATEGORIES:Club Meetings
END:VEVENT
BEGIN:VEVENT
DTSTART;TZID=Pacific/Auckland:20260813T190000
DTEND;TZID=Pacific/Auckland:20260813T210000
DTSTAMP:20260424T130944
CREATED:20260207T073618Z
LAST-MODIFIED:20260207T074230Z
UID:7454-1786647600-1786654800@wps.wps.org.nz
SUMMARY:Regular Thursday Meeting
DESCRIPTION:Details to be confirmed as they become available.
URL:http://wps.wps.org.nz/event/reguar-thursday-meeting/
LOCATION:Tararua Tramping Club
CATEGORIES:Club Meetings
END:VEVENT
BEGIN:VEVENT
DTSTART;TZID=Pacific/Auckland:20260910T190000
DTEND;TZID=Pacific/Auckland:20260910T210000
DTSTAMP:20260424T130944
CREATED:20260207T073901Z
LAST-MODIFIED:20260207T073901Z
UID:7458-1789066800-1789074000@wps.wps.org.nz
SUMMARY:AGM 2026
DESCRIPTION:Details to be confirmed as they become available.
URL:http://wps.wps.org.nz/event/agm-2026/
LOCATION:Tararua Tramping Club
CATEGORIES:Club Meetings
END:VEVENT
BEGIN:VEVENT
DTSTART;TZID=Pacific/Auckland:20260924T190000
DTEND;TZID=Pacific/Auckland:20260924T210000
DTSTAMP:20260424T130944
CREATED:20260207T074008Z
LAST-MODIFIED:20260207T074008Z
UID:7460-1790276400-1790283600@wps.wps.org.nz
SUMMARY:Regular Thursday Meeting
DESCRIPTION:
URL:http://wps.wps.org.nz/event/regular-thursday-meeting-11/
LOCATION:Tararua Tramping Club
CATEGORIES:Club Meetings
END:VEVENT
BEGIN:VEVENT
DTSTART;TZID=Pacific/Auckland:20261022T190000
DTEND;TZID=Pacific/Auckland:20261022T210000
DTSTAMP:20260424T130944
CREATED:20260207T074325Z
LAST-MODIFIED:20260207T074409Z
UID:7466-1792695600-1792702800@wps.wps.org.nz
SUMMARY:Regular Thursday Meeting
DESCRIPTION:Details to be confirmed as they become available.
URL:http://wps.wps.org.nz/event/regular-thursday-meeting-13/
LOCATION:Tararua Tramping Club
CATEGORIES:Club Meetings
END:VEVENT
BEGIN:VEVENT
DTSTART;TZID=Pacific/Auckland:20261112T190000
DTEND;TZID=Pacific/Auckland:20261112T210000
DTSTAMP:20260424T130944
CREATED:20260207T074524Z
LAST-MODIFIED:20260207T074524Z
UID:7468-1794510000-1794517200@wps.wps.org.nz
SUMMARY:Regular Thursday meeting
DESCRIPTION:Details to be confirmed as they become available.
URL:http://wps.wps.org.nz/event/regular-thursday-meeting-14/
LOCATION:Tararua Tramping Club
CATEGORIES:Club Meetings
END:VEVENT
BEGIN:VEVENT
DTSTART;TZID=Pacific/Auckland:20261126T190000
DTEND;TZID=Pacific/Auckland:20261126T210000
DTSTAMP:20260424T130944
CREATED:20260207T074622Z
LAST-MODIFIED:20260207T074622Z
UID:7470-1795719600-1795726800@wps.wps.org.nz
SUMMARY:Regular Thursday Meeting
DESCRIPTION:Details to be confirmed as they become available.
URL:http://wps.wps.org.nz/event/regular-thursday-meeting-15/
LOCATION:Tararua Tramping Club
CATEGORIES:Club Meetings
END:VEVENT
BEGIN:VEVENT
DTSTART;TZID=Pacific/Auckland:20261210T190000
DTEND;TZID=Pacific/Auckland:20261210T210000
DTSTAMP:20260424T130944
CREATED:20260207T072944Z
LAST-MODIFIED:20260207T073041Z
UID:7447-1796929200-1796936400@wps.wps.org.nz
SUMMARY:Annual Print Competition
DESCRIPTION:Annual Print Competition\n\n\nThursday 10th December\, 7pm\, Tararua Tramping Club\n\n\nThis is a great chance to see other members’ work in print and is always a wonderful learning opportunity. Join us to discuss and appreciate the beauty of the printed photograph. Come along this Thursday to view the presentation of prints and listen to the judge’s feedback.What to bringAs this is our last meeting for the year\, we will be having some food and drinks. Some drinks will be provided\, and we would appreciate if you could bring a plate of food to share.Time and PlaceDecember 10th\, Tararua Tramping Club\, Doors open 7pm
URL:http://wps.wps.org.nz/event/annual-print-competition-2026/
LOCATION:Tararua Tramping Club
CATEGORIES:Club Meetings
ATTACH;FMTTYPE=image/jpeg:http://wps.wps.org.nz/wp-content/uploads/2026/02/lars-kuczynski-MEcR55ol3jM-unsplash.jpg
END:VEVENT
END:VCALENDAR