BEGIN:VCALENDAR
VERSION:2.0
PRODID:-//WPS - Wellington Photographic Society - ECPv6.13.2.1//NONSGML v1.0//EN
CALSCALE:GREGORIAN
METHOD:PUBLISH
X-WR-CALNAME:WPS - Wellington Photographic Society
X-ORIGINAL-URL:http://wps.wps.org.nz
X-WR-CALDESC:Events for WPS - Wellington Photographic Society
REFRESH-INTERVAL;VALUE=DURATION:PT1H
X-Robots-Tag:noindex
X-PUBLISHED-TTL:PT1H
BEGIN:VTIMEZONE
TZID:Pacific/Auckland
BEGIN:STANDARD
TZOFFSETFROM:+1300
TZOFFSETTO:+1200
TZNAME:NZST
DTSTART:20260404T140000
END:STANDARD
BEGIN:DAYLIGHT
TZOFFSETFROM:+1200
TZOFFSETTO:+1300
TZNAME:NZDT
DTSTART:20260926T140000
END:DAYLIGHT
END:VTIMEZONE
BEGIN:VEVENT
DTSTART;TZID=Pacific/Auckland:20261018T130000
DTEND;TZID=Pacific/Auckland:20261018T160000
DTSTAMP:20260424T043601
CREATED:20260305T215902Z
LAST-MODIFIED:20260305T215902Z
UID:7501-1792328400-1792339200@wps.wps.org.nz
SUMMARY:Wellington Interclub Battle
DESCRIPTION:Interclub Battle date: Sunday 18 October \n\nLocation: Plimmerton Hall\, 9 Sunset Parade\, Plimmerton\, Porirua\nLunch start time: 1.00pm\nCompetition start time: 1.30pm\n\nWe (Porirua CC) will be arranging a programme of entertainment as follows: \nSaturday 17 October \n\n1.00pm – Meet at Groundup Café\, 15 Paekakariki Hill Road\, Pāuatahanui\n2.00pm – Visit the following locations:\nSt Alban’s Church\, Pauatahanui\nPauatahanui Wildlife Reserve\nCamborne Boatsheds.\nThe are situated at the south end of the Camborne Walkway and easily accessed via the car park on the north side of the Paremata Bridge.  The boatsheds date from 1949 and were developed from small boatsheds to more substantial structures.  Poet Sam Hunt lived at Boatshed No.5 in the 1990s.\n5.30pm – Dinner at the Porirua Photography Clubrooms\, The Attic” of the Woolshed at the historic Gear Homestead\, 1 Okowai Road\, Papakōwhai\, Porirua.  Bring your own takeaways.  We will provide tea\, coffee\, juice and ice cream.  We stoll this idea from the Whanganui Club!\n\nSunday 18 October \nWe are still in the planning stages for what to do in the morning.  These are our thoughts so far: \n\nPataka and Porirua walkabout\nTitahi Bay boat sheds\nParemata bridge sunrise and walk along boat sheds\n\nTopics \n\nFreeze the action – action shot which captures the sense of motion but with minimal or no blur. Panning shots which show background blur are not valid.\nFacial expressions – a facial expression which captures and conveys emotion\nFire and / or Frozen – an image that captures either or both senses of heat and cold\nFood glorious food – A shot which makes the mouth water and the stomach rumble\nFellowship – a photo which captures a sense of community\, togetherness\, shared concern or care for others\nFashion\, flair\, flamboyance – anything goes as long it is conveys the theme\nFungus\, Fruit\, Flowers – From the natural setting to a formal arrangement\, a photo which incorporates one or more of the themed items\nFlight – An object\, bird\, person\, in the act of flying through the air\nForces of Nature – Earth\, Fire\, Water\, Resilience of nature\nFestival – the image should convey the sense of fun\, colour\, activities of an event.
URL:http://wps.wps.org.nz/event/wellington-interclub-battle-4/
CATEGORIES:Competition
ATTACH;FMTTYPE=image/jpeg:http://wps.wps.org.nz/wp-content/uploads/2024/06/pexels-rahulp9800-1006627-scaled-e1717914559379.jpg
END:VEVENT
END:VCALENDAR