BEGIN:VCALENDAR
VERSION:2.0
PRODID:-//WPS - Wellington Photographic Society - ECPv6.13.2.1//NONSGML v1.0//EN
CALSCALE:GREGORIAN
METHOD:PUBLISH
X-WR-CALNAME:WPS - Wellington Photographic Society
X-ORIGINAL-URL:http://wps.wps.org.nz
X-WR-CALDESC:Events for WPS - Wellington Photographic Society
REFRESH-INTERVAL;VALUE=DURATION:PT1H
X-Robots-Tag:noindex
X-PUBLISHED-TTL:PT1H
BEGIN:VTIMEZONE
TZID:Pacific/Auckland
BEGIN:STANDARD
TZOFFSETFROM:+1300
TZOFFSETTO:+1200
TZNAME:NZST
DTSTART:20200404T140000
END:STANDARD
BEGIN:DAYLIGHT
TZOFFSETFROM:+1200
TZOFFSETTO:+1300
TZNAME:NZDT
DTSTART:20200926T140000
END:DAYLIGHT
BEGIN:STANDARD
TZOFFSETFROM:+1300
TZOFFSETTO:+1200
TZNAME:NZST
DTSTART:20210403T140000
END:STANDARD
BEGIN:DAYLIGHT
TZOFFSETFROM:+1200
TZOFFSETTO:+1300
TZNAME:NZDT
DTSTART:20210925T140000
END:DAYLIGHT
BEGIN:STANDARD
TZOFFSETFROM:+1300
TZOFFSETTO:+1200
TZNAME:NZST
DTSTART:20220402T140000
END:STANDARD
BEGIN:DAYLIGHT
TZOFFSETFROM:+1200
TZOFFSETTO:+1300
TZNAME:NZDT
DTSTART:20220924T140000
END:DAYLIGHT
BEGIN:STANDARD
TZOFFSETFROM:+1300
TZOFFSETTO:+1200
TZNAME:NZST
DTSTART:20230401T140000
END:STANDARD
BEGIN:DAYLIGHT
TZOFFSETFROM:+1200
TZOFFSETTO:+1300
TZNAME:NZDT
DTSTART:20230923T140000
END:DAYLIGHT
BEGIN:STANDARD
TZOFFSETFROM:+1300
TZOFFSETTO:+1200
TZNAME:NZST
DTSTART:20240406T140000
END:STANDARD
BEGIN:DAYLIGHT
TZOFFSETFROM:+1200
TZOFFSETTO:+1300
TZNAME:NZDT
DTSTART:20240928T140000
END:DAYLIGHT
BEGIN:STANDARD
TZOFFSETFROM:+1300
TZOFFSETTO:+1200
TZNAME:NZST
DTSTART:20250405T140000
END:STANDARD
BEGIN:DAYLIGHT
TZOFFSETFROM:+1200
TZOFFSETTO:+1300
TZNAME:NZDT
DTSTART:20250927T140000
END:DAYLIGHT
END:VTIMEZONE
BEGIN:VEVENT
DTSTART;TZID=Pacific/Auckland:20250929T190000
DTEND;TZID=Pacific/Auckland:20251005T170000
DTSTAMP:20260423T214338
CREATED:20250811T041439Z
LAST-MODIFIED:20250918T083815Z
UID:7329-1759172400-1759683600@wps.wps.org.nz
SUMMARY:Annual Exhibition 2025
DESCRIPTION:The Wellington Photographic Society’s annual exhibition is a highlight of our year\, bringing together the creative work of our members and sharing it with the wider public. For us\, it’s not just a chance to hang photographs on the wall – it’s an opportunity to celebrate the art of photography\, showcase the talent within our community\, and invite others to discover what makes photography such an inspiring and accessible pursuit. \nThis year’s exhibition offers a diverse collection of images captured both close to home and further afield. You’ll see photographs from all around the world – landscapes\, portraits\, street scenes\, and wildlife – but the heart of the exhibition is firmly rooted in Wellington. Our members have drawn inspiration from the beauty and variety of our own backyard: dramatic coastlines\, majestic mountains\, vibrant cities\, and the small\, fleeting details that make life unique. \n \nWe are also proud to display images created during our group meet-ups\, workshops\, and learning sessions. These gatherings are at the heart of what we do as a society\, offering members the chance to connect\, experiment\, and grow their photographic skills in a supportive and friendly environment. The exhibition is therefore more than just a showcase of individual work – it’s a reflection of the shared learning\, encouragement\, and passion that our community thrives on. \nVisitors can expect to see a wide range of styles and techniques\, from classic black-and-white to bold digital artistry. Whether you are a seasoned photographer\, someone with a casual interest in the medium\, or simply curious to see the world through a different lens\, there will be something here to inspire you. \nOpening Night: 29th September\, 7pm (private event\, by invitation only)\nPublic Viewing: 30th September onwards\nOpening Hours: 10am – 6pm most days\, extended to 8pm on Friday/Saturday \nWe warmly invite you to join us\, explore the exhibition\, and experience the world as seen through the eyes of our members. Who knows – you may even feel inspired to pick up a camera yourself and consider becoming part of the Wellington Photographic Society. \nOpening night\nMonday\, 29 September | Time 7pm | Thistle Hall\, 293 Cuba St\, Te Aro\nPlease come and join us to celebrate the creative photos of your fellow club members and yourself – family and friends are welcome. Finger food and refreshments will be available. \nGallery roster\nWe are looking to establish a roster of volunteers to man the gallery during weekday afternoons and during the weekends. Please contact the committee via comms@wps.org.nz if you can volunteer.
URL:http://wps.wps.org.nz/event/annual-exhibition-2025/
LOCATION:Thistle Hall\, Thistle Hall\, 293 Cuba St\, Te Aro\, Wellington\, New Zealand
CATEGORIES:Club Meetings,Exhibition
ATTACH;FMTTYPE=image/jpeg:http://wps.wps.org.nz/wp-content/uploads/2025/09/FB-Banner-2025-v3-alt-e1758184629911.jpg
END:VEVENT
BEGIN:VEVENT
DTSTART;TZID=Pacific/Auckland:20250327T190000
DTEND;TZID=Pacific/Auckland:20250327T210000
DTSTAMP:20260423T214338
CREATED:20250323T013629Z
LAST-MODIFIED:20250323T104012Z
UID:7203-1743102000-1743109200@wps.wps.org.nz
SUMMARY:André Vroon - Architectural Photography
DESCRIPTION:André Vroon is a professional\, Wellington-based\, photographer specialising in imagery of the built environment – primarily commercial\, residential\, industrial and community spaces. He works for a diverse range of clients that includes architects\, builders\, interior designers\, product suppliers and property developers. His work (including a few personal projects) has been featured in magazines including HOME\, Defign\, Adventure\, Wilderness\, Australian Photography and D-Photo. \nAndré will be talking about: \n\nHow he got into photography in general\nWhy architectural photography?\nAn overview and demonstration of specialised gear used\nA few pointers on technique\nA case study of one of his recent projects\n\nAfter the presentation\, there will be some time for questions and a chance to ask some one-on-one questions.
URL:http://wps.wps.org.nz/event/andre-vroon-architectural-photography/
LOCATION:Tararua Tramping Club
CATEGORIES:Club Meetings,Exhibition
ATTACH;FMTTYPE=image/jpeg:http://wps.wps.org.nz/wp-content/uploads/2025/03/Holmes-Architecture-Krause-House-Wellington-023.jpg
END:VEVENT
BEGIN:VEVENT
DTSTART;TZID=Pacific/Auckland:20240926T190000
DTEND;TZID=Pacific/Auckland:20240926T210000
DTSTAMP:20260423T214338
CREATED:20240819T114022Z
LAST-MODIFIED:20240923T031151Z
UID:7045-1727377200-1727384400@wps.wps.org.nz
SUMMARY:James Gilberd (Photospace Gallery) - Curating an Image Selection
DESCRIPTION:The talk is all about curating a selection of images for your own exhibitions and photobooks. James has decades of experience in this area and should have some great insights for everyone. \nJames Gilberd opened Photospace Gallery in December 1998 and has hosted hundreds of exhibitions of photography since then\, mainly by NZ-based photographers. \nThe gallery is propped up financially by his professional photography work\, which includes running courses and workshops\, photo studio and darkroom hire\, commercial photography\, and taking nice-looking passport photos. He studied photography at Wellington Polytech in 1987 and went back there to do a photography degree in the early 1990s. \nThursday 26 September | Doors open 7pm | Tararua Tramping Club\nMembers of the public are welcome to attend
URL:http://wps.wps.org.nz/event/james-gilberd/
LOCATION:Tararua Tramping Club
CATEGORIES:Club Meetings,Exhibition
ATTACH;FMTTYPE=image/jpeg:http://wps.wps.org.nz/wp-content/uploads/2024/08/Gallery-full-res_2215-susie-baker-2019-copy-scaled-e1727061101566.jpg
END:VEVENT
BEGIN:VEVENT
DTSTART;TZID=Pacific/Auckland:20230617T073000
DTEND;TZID=Pacific/Auckland:20230617T213000
DTSTAMP:20260423T214338
CREATED:20230608T111827Z
LAST-MODIFIED:20230608T111827Z
UID:6698-1686987000-1687037400@wps.wps.org.nz
SUMMARY:Otari Wiltons Bush - Morning Photowalk
DESCRIPTION:Join us for an early morning photo meetup at Otari Wilton’s Bush at 7.30am on Saturday 18 June. Meet at the entrance next to the school (Banks Entrance near the Cockayne centre and lawn). We can photograph the early morning sun as it lights up the plants\, and the birds as they wake up and start singing and foraging.\n\nThis plan relies very much on the weather being sunny\, so we have Sunday\, 18 June lined up as a backup day.\n\nA tripod would be useful but is not essential.\n\nMeetup Host: Donna Jennings
URL:http://wps.wps.org.nz/event/otari-wiltons-bush-morning-photowalk/
LOCATION:Otari Wilton Bush\, 150 Wilton Road\, Wilton
CATEGORIES:Exhibition,Meet Ups
ATTACH;FMTTYPE=image/jpeg:http://wps.wps.org.nz/wp-content/uploads/2023/06/pexels-felix-mittermeier-957024-scaled-e1686223019725.jpg
END:VEVENT
BEGIN:VEVENT
DTSTART;TZID=Pacific/Auckland:20221006T173000
DTEND;TZID=Pacific/Auckland:20221006T200000
DTSTAMP:20260423T214338
CREATED:20221004T033337Z
LAST-MODIFIED:20221004T033554Z
UID:6075-1665077400-1665086400@wps.wps.org.nz
SUMMARY:Cuba St Photowalk
DESCRIPTION:My family has a very strong connection with Cuba St\, or more correctly the ship it’s named after.\nI’m doing a personal pilgrimage\, The Voyage of the Cuba\, on Thursday evening\, the 6th October.\n\nWe will be meeting at the corner of Cuba & Manners St\, outside the 2Degrees shop at 5.30pm. If you are running late\, you will find us somewhere on Cuba between there and Santoria.\n\nPhotograph anything you like: architecture\, people\, ICM\, abstract stuff…\nThere is a booking at Santoria for 6.45/7pm for those who wish to stay and catch-up afterwards.\n\nI’m taking my laptop so people could upload their single\, favourite image for viewing (possibly for showing at a later club night(?). I’ll have an SD & XQD card reader with me; anything else will need your reader.\n\nHost: Jeff Mein-Smith
URL:http://wps.wps.org.nz/event/cuba-st-photowalk/
CATEGORIES:Club Meetings,Exhibition
ATTACH;FMTTYPE=image/jpeg:http://wps.wps.org.nz/wp-content/uploads/2022/10/309905167_10225935887957508_4688665511056822496_n-e1664854546449.jpg
END:VEVENT
BEGIN:VEVENT
DTSTART;TZID=Pacific/Auckland:20220623T190000
DTEND;TZID=Pacific/Auckland:20220623T210000
DTSTAMP:20260423T214338
CREATED:20220607T104918Z
LAST-MODIFIED:20220621T041615Z
UID:5841-1656010800-1656018000@wps.wps.org.nz
SUMMARY:Fireworks 101 & Mid-Winter Xmas
DESCRIPTION:Looking to take your firework photography to the next level? You’ve come to the right place. \nThis meeting precedes a meetup for the Matariki Fireworks Celebration on Friday the 24th of June. \nIn this meeting\, we will go over some techniques and tips to shooting fireworks and show off some member images. Hopefully by the time you’ve finished this meeting\, you’ll be ready to capture gorgeous images like an absolute pro. \nWhat we’ll go over in the meeting \n\nThe best settings for firework photography\nEssential firework photo gear\nA simple way to prevent image blur\nMuch more!\n\nMid-Winter Xmas\nYou’re invited to join us on Thursday\, 24th of June at 7:00pm for our Fireworks & Mid-Winter Xmas at the Tararua Tramping Club. \n\n\n\n\n\n\nIn addition to the fireworks presentation\, there will be some festive frivolities such as a festive photography quiz some food and drinks.\n\n\n\n\n\n\n\n\nSwap Meet:\nIf you have a closet full of photography stuff that never gets used? Then this might be your opportunity to get rid of those items and make a few bucks. All you have to do is bring along your gear and name a price.\n\n\n\nDrinks will be provided and we ask that you bring a plate of food to share. Doors open from 7:00pm
URL:http://wps.wps.org.nz/event/fireworks-how-to-photograph-them/
LOCATION:Tararua Tramping Club
CATEGORIES:Club Meetings,Exhibition,Meet Ups
ATTACH;FMTTYPE=image/jpeg:http://wps.wps.org.nz/wp-content/uploads/2022/06/erwan-hesry-WPTHZkA-M4I-unsplash-scaled-e1654599458557.jpg
END:VEVENT
BEGIN:VEVENT
DTSTART;TZID=Pacific/Auckland:20210713T080000
DTEND;TZID=Pacific/Auckland:20210727T170000
DTSTAMP:20260423T214338
CREATED:20210427T045728Z
LAST-MODIFIED:20210504T024339Z
UID:5464-1626163200-1627405200@wps.wps.org.nz
SUMMARY:Wellington Photographic Society: 2021 Exhibition
DESCRIPTION:Wellington Photographic Society: 2021 Exhibition\n\nWellington Photographic Society – Annual Exhibition 2021\n13-27 July 2021 – Te Auaha Gallery\n\n\nYou are invited to enjoy the Annual Exhibition of the Wellington Photographic Society\, being held this year in the Te Auaha Gallery \nDates and Times:\n\nTe Auaha Gallery\, Dixon Street\, 13-27 July 2021.\nOpening Night: 13 July\, 7pm\nMonday – Friday 10am – 6pm\, Weekends 10-4pm.\n\nWe are excited to share our member’s recent work with the wider Wellington community. We hope that it will provide interest\, joy and inspiration in a year that has been challenging for many. \nThe images cover a variety of genres and subjects. They have been created by a range of photographers from those just beginning their creative journeys to experienced professionals. For some of our members\, this exhibition will be the first time their work has been exhibited. \nWellington Photographic Society aims to encourage the study and practice of photography.  We operate in a friendly informal way and our members appreciate the chance to learn\, network and share with others their passion for photography. \nWe believe that photography is a fun\, affordable and accessible creative outlet and offer our members an inclusive environment in which to share their skills and knowledge with\, and to learn from\, others. \nIf you enjoy photography\, want to progress it to the next level and would enjoy sharing the knowledge and camaraderie of fellow enthusiasts\, we would love to have you join us. \nWhy don’t you come along as a guest to one of our upcoming meetings. Also\, check out the rest of this website visit our Facebook page at facebook.com/WellingtonPhotographicSociety.  
URL:http://wps.wps.org.nz/event/wellington-photographic-society-2021-exhibition/
LOCATION:Te Auaha Gallery\, 65 Dixon Street\, Wellington\, New Zealand
CATEGORIES:Club Meetings,Exhibition,Meet Ups
ATTACH;FMTTYPE=image/jpeg:http://wps.wps.org.nz/wp-content/uploads/2019/11/DSC3453-001.jpg
END:VEVENT
BEGIN:VEVENT
DTSTART;TZID=Pacific/Auckland:20210513T190000
DTEND;TZID=Pacific/Auckland:20210513T210000
DTSTAMP:20260423T214338
CREATED:20210427T043836Z
LAST-MODIFIED:20210512T111700Z
UID:5451-1620932400-1620939600@wps.wps.org.nz
SUMMARY:This event is now cancelled
DESCRIPTION:This event has now been canceled due to unforeseen circumstances. \nRachael Smith – Using Photography as a method of healing & recovery \nThrough this work\, I have explored challenges that occurred in a relationship where the balance of power was unequal. \nThis autobiographical body of work has come about through observing myself\, everyday routines\, environment and changes in my situation as though I am disembodied from the scene itself.  Using a digital camera to document my domestic  surroundings and observations I have been able to make images that reflect a certain time\, feeling or emotion. Digital files are downloaded\, processed and printed to create a final resolved image.  Studying these images in post-production offers a way for me to observe my own situation at a distance with new clarity of mind. \nThis methodology is a means of escape\, and of visual articulation for situations that I had not previously been able to discuss. Using a process of observational contemplation\, approached through the lens\, as an attempt to better understand my own situation. Images created during periods of emotional pressure – everyday subtleties that draw my eye. \n“The beauty of those places I soared over is with me still\, and in all my dreams as in my waking life was a love of place\, a sense that places were embodiments of emotions\, were anchors\, were companions of a sort\, even protectors or parents.” \nCheck out more of Racheal’s work here: \nRahera Photography\nwww.raheraphotography.com
URL:http://wps.wps.org.nz/event/rachael-smith-using-photography-as-a-method-of-healing-recovery/
LOCATION:Tararua Tramping Club
CATEGORIES:Club Meetings,Competition,Exhibition
END:VEVENT
BEGIN:VEVENT
DTSTART;TZID=Pacific/Auckland:20201013T190000
DTEND;TZID=Pacific/Auckland:20201027T160000
DTSTAMP:20260423T214338
CREATED:20200914T112152Z
LAST-MODIFIED:20200921T090411Z
UID:5212-1602615600-1603814400@wps.wps.org.nz
SUMMARY:Wellington Photographic Society: 2020 Exhibition
DESCRIPTION:The exhibition is being held this year at the Te Auaha Gallery in Dixon St and will run from 13-27 October. \nOur annual exhibition is the opportunity to showcase the best work of our members to family\, friends and the public and we try to include work from each member. \nCurrent members of WPS are invited to submit up to three images to be considered for selection for the exhibition. \nExhibition dates and times\n\nTe Auaha Gallery\, 65 Dixon Street\n13-27 October 2020\n\nOpening night\nTuesday\, 13 October | Time tbc | Te Auaha Gallery\, 65 Dixon Street\nPlease come and join us to celebrate the creative photos of your fellow club members and yourself – family and friends are welcome. Finger food and refreshments will be available.
URL:http://wps.wps.org.nz/event/wellington-photographic-society-2020-exhibition/
LOCATION:Te Auaha Gallery\, 65 Dixon Street\, Wellington\, New Zealand
CATEGORIES:Exhibition
ATTACH;FMTTYPE=image/jpeg:http://wps.wps.org.nz/wp-content/uploads/2020/09/Horse-and-Rally-4.jpg
END:VEVENT
END:VCALENDAR