BEGIN:VCALENDAR
VERSION:2.0
PRODID:-//WPS - Wellington Photographic Society - ECPv6.13.2.1//NONSGML v1.0//EN
CALSCALE:GREGORIAN
METHOD:PUBLISH
X-WR-CALNAME:WPS - Wellington Photographic Society
X-ORIGINAL-URL:http://wps.wps.org.nz
X-WR-CALDESC:Events for WPS - Wellington Photographic Society
REFRESH-INTERVAL;VALUE=DURATION:PT1H
X-Robots-Tag:noindex
X-PUBLISHED-TTL:PT1H
BEGIN:VTIMEZONE
TZID:Pacific/Auckland
BEGIN:STANDARD
TZOFFSETFROM:+1300
TZOFFSETTO:+1200
TZNAME:NZST
DTSTART:20190406T140000
END:STANDARD
BEGIN:DAYLIGHT
TZOFFSETFROM:+1200
TZOFFSETTO:+1300
TZNAME:NZDT
DTSTART:20190928T140000
END:DAYLIGHT
BEGIN:STANDARD
TZOFFSETFROM:+1300
TZOFFSETTO:+1200
TZNAME:NZST
DTSTART:20200404T140000
END:STANDARD
BEGIN:DAYLIGHT
TZOFFSETFROM:+1200
TZOFFSETTO:+1300
TZNAME:NZDT
DTSTART:20200926T140000
END:DAYLIGHT
BEGIN:STANDARD
TZOFFSETFROM:+1300
TZOFFSETTO:+1200
TZNAME:NZST
DTSTART:20210403T140000
END:STANDARD
BEGIN:DAYLIGHT
TZOFFSETFROM:+1200
TZOFFSETTO:+1300
TZNAME:NZDT
DTSTART:20210925T140000
END:DAYLIGHT
BEGIN:STANDARD
TZOFFSETFROM:+1300
TZOFFSETTO:+1200
TZNAME:NZST
DTSTART:20220402T140000
END:STANDARD
BEGIN:DAYLIGHT
TZOFFSETFROM:+1200
TZOFFSETTO:+1300
TZNAME:NZDT
DTSTART:20220924T140000
END:DAYLIGHT
BEGIN:STANDARD
TZOFFSETFROM:+1300
TZOFFSETTO:+1200
TZNAME:NZST
DTSTART:20230401T140000
END:STANDARD
BEGIN:DAYLIGHT
TZOFFSETFROM:+1200
TZOFFSETTO:+1300
TZNAME:NZDT
DTSTART:20230923T140000
END:DAYLIGHT
BEGIN:STANDARD
TZOFFSETFROM:+1300
TZOFFSETTO:+1200
TZNAME:NZST
DTSTART:20240406T140000
END:STANDARD
BEGIN:DAYLIGHT
TZOFFSETFROM:+1200
TZOFFSETTO:+1300
TZNAME:NZDT
DTSTART:20240928T140000
END:DAYLIGHT
BEGIN:STANDARD
TZOFFSETFROM:+1300
TZOFFSETTO:+1200
TZNAME:NZST
DTSTART:20250405T140000
END:STANDARD
BEGIN:DAYLIGHT
TZOFFSETFROM:+1200
TZOFFSETTO:+1300
TZNAME:NZDT
DTSTART:20250927T140000
END:DAYLIGHT
END:VTIMEZONE
BEGIN:VEVENT
DTSTART;TZID=Pacific/Auckland:20251113T190000
DTEND;TZID=Pacific/Auckland:20251113T210000
DTSTAMP:20260424T065930
CREATED:20250703T103736Z
LAST-MODIFIED:20250703T103736Z
UID:7312-1763060400-1763067600@wps.wps.org.nz
SUMMARY:Lizzie Bisley – What we can learn from painters
DESCRIPTION:Lizzie Bisley – What we can learn from painters \nWhat can we\, as photographers\, learn from painters? That is the question we have posed to Te Papa art curator Lizzie Bisley for a talk at this week’s meeting. For example\, how do painters think about composition\, how do painters use light\, and how have these have changed over various periods and movements? \nLizzie has an honours degree in art history from Victoria University and has also studied at the Royal College of Art in London\, after which she worked as a curator at London’s Victoria and Albert Museum. Lizzie returned to Wellington in 2019 and is now the Curator Modern Art at Te Papa. \nNovember 13\, Tararua Tramping Clubs\, Doors open from 7pm
URL:http://wps.wps.org.nz/event/lizzie-bisley-what-we-can-learn-from-painters/
LOCATION:TTC Tramping Hall\, 4 Moncrieff St\, Wellington\, North Island\, 6011\, New Zealand
CATEGORIES:Meet Ups,Monthly Themes
ATTACH;FMTTYPE=image/jpeg:http://wps.wps.org.nz/wp-content/uploads/2025/07/pexels-steve-1509534-scaled-e1751539040146.jpg
END:VEVENT
BEGIN:VEVENT
DTSTART;TZID=Pacific/Auckland:20230201T080000
DTEND;TZID=Pacific/Auckland:20230228T233000
DTSTAMP:20260424T065930
CREATED:20230131T072012Z
LAST-MODIFIED:20230131T072012Z
UID:6580-1675238400-1677627000@wps.wps.org.nz
SUMMARY:Summer Photography Competition!
DESCRIPTION:Welcome to our Summer Photography Competition! This competition invites photographers of all levels to showcase their best summer-themed shots. From beach landscapes to city streets filled with sun-kissed crowds\, we’re looking for images that capture the essence of summer and the memories it creates. We have a prize for winner from our friends at Splendid. This is a fantastic opportunity to share your work and potentially have it recognized. So grab your camera and start snapping! \nHOW TO ENTER: \nThere are two ways to enter: \n\nUpload your entry to your Instagram timeline\, follow @wgtnphotographicsociety and use the #wpscompsummer Your profile will need to be set to public so we can see your entry.\nOr\, simply post your image in our Facebook discussion group with the #wpscompsummer\n\nYou can enter four images total either on Instagram or Facebook. \n \nCONDITIONS OF ENTRY: \n\nCompetition runs from 01 February 2023 until 28 February 2023.\nImages must have been taken within the last 6 months.\nWinner will receive a $30 voucher from Splendid or an alternate partner via email\nWe may share your entries to our social media accounts so feel free to tag yourself when we upload yours!\nThe judges decision is final and no correspondence will be entered into.\nPrizes cannot be redeemed for cash or other products.\nBy entering you agree that a copy of any image you enter into a WPS competition may be used on our social channels and may be included in the WPS newsletter Impact!. (We will credit the photographer where applicable)\nWinners will be announced and notified early March 2023.\n\nTERMS AND CONDITIONS: \n\nEntries should be photographic images taken by the entrant personally and must not contain any copyrighted material.\nAll images entered must be in digital format.\nEntries must be submitted by the closing date\, as specified on the competition website.\nWellington Photographic Society reserves the right to reject any entry deemed to be inappropriate or offensive.\nAll entries must be original and must not infringe on any third–party copyright or other intellectual property rights.\nBy entering the competition\, entrants grant Wellington Photographic Society the right to use the images for promotional and marketing purposes\, including but not limited to\, display on the Wellington Photographic Society website and in any other media.\nThe winner will be chosen by the Wellington Photographic Society judging panel. The decision of the judging panel is final\, and no correspondence will be entered into.\nThe prize winner will be notified via email and/or Instagram Direct
URL:http://wps.wps.org.nz/event/summer-photography-competition/
LOCATION:North Island
CATEGORIES:Competition,Meet Ups,Monthly Themes
ATTACH;FMTTYPE=image/jpeg:http://wps.wps.org.nz/wp-content/uploads/2023/01/INsta-Comps-2023-WEbsite-Version.jpg
ORGANIZER;CN="Shannon Doyle":MAILTO:doyleshannon@hotmail.com
END:VEVENT
BEGIN:VEVENT
DTSTART;TZID=Pacific/Auckland:20200601T080000
DTEND;TZID=Pacific/Auckland:20200630T170000
DTSTAMP:20260424T065930
CREATED:20200128T050416Z
LAST-MODIFIED:20200618T023307Z
UID:4430-1590998400-1593536400@wps.wps.org.nz
SUMMARY:Monochromatic Portrait - June Theme
DESCRIPTION:Portraits come in all shapes and sizes and we’re hoping to see a wide variety of them over the coming month. Between now and the 30th of June we’ll be inviting photographers to submit their best three monochromatic portrait images. The winning image will be featured on the cover of next months Impact magazine and will receive a $50 voucher from our friends at Wellington Photographic Supplies. \nThe competition is open to all points of view and all levels of expertise. \nSubmissions must be: \n\n5×7 or 5×4 crop\nUp to 3 submissions\nPortrait orientation\nFile size: Under 5mb\nSubmission email: wpsimpact@gmail.com
URL:http://wps.wps.org.nz/event/june-monochromatic-portrait/
LOCATION:North Island
CATEGORIES:Competition,Monthly Themes
END:VEVENT
BEGIN:VEVENT
DTSTART;TZID=Pacific/Auckland:20200525T080000
DTEND;TZID=Pacific/Auckland:20200531T230000
DTSTAMP:20260424T065930
CREATED:20200518T065325Z
LAST-MODIFIED:20200518T065511Z
UID:5057-1590393600-1590966000@wps.wps.org.nz
SUMMARY:Wellington Interclub Themes - Week Two
DESCRIPTION:Week Two (Just Illusion)\nJust Illusion is an intriguing topic for one of the ten themes that make up this year’s Welllington Region Interclub Print Battle.  We are looking to submit a cracking entry on behalf of the Society so get out there and start taking photos!  \nYou can submit three images on any theme at any time up until 23 August but please don’t leave things to the last minute! \nSend your entries electronically to wpscomp@gmail.com in .jpg format (Under 10mb please)
URL:http://wps.wps.org.nz/event/wellington-interclub-themes-week-two/
LOCATION:North Island
CATEGORIES:Competition,Monthly Themes
ORGANIZER;CN="Glen Innes":MAILTO:gleninnesphotography@gmail.com
END:VEVENT
BEGIN:VEVENT
DTSTART;TZID=Pacific/Auckland:20200521T190000
DTEND;TZID=Pacific/Auckland:20200521T213000
DTSTAMP:20260424T065930
CREATED:20200518T084929Z
LAST-MODIFIED:20200518T084929Z
UID:5082-1590087600-1590096600@wps.wps.org.nz
SUMMARY:Post-processing (Zoom Meetup)
DESCRIPTION:While social distancing remains we will run two Zoom workshops on post-processing. \nKeith will kick off with an intro to processing in Lightroom and will touch on what you can achieve in Photoshop\, that you can’t in Lightroom. \nPlease note this Zoom workshop is for Wellington Photographic Society members only. \nJoin Zoom Meeting\nhttps://us02web.zoom.us/j/81571099636?pwd=SHBXT09tK1JEekxuRFRHcG8wM2VUdz09
URL:http://wps.wps.org.nz/event/post-processing-zoom-meetup/
LOCATION:North Island
CATEGORIES:Meet Ups,Monthly Themes
ORGANIZER;CN="Glen Innes":MAILTO:gleninnesphotography@gmail.com
END:VEVENT
BEGIN:VEVENT
DTSTART;TZID=Pacific/Auckland:20200501T080000
DTEND;TZID=Pacific/Auckland:20200531T170000
DTSTAMP:20260424T065930
CREATED:20200128T045335Z
LAST-MODIFIED:20200417T122555Z
UID:4420-1588320000-1590944400@wps.wps.org.nz
SUMMARY:May photo topic – At Home
DESCRIPTION:This year\, we are continuing our monthly photo topic and invite members to take images to the theme during the month. This is an opportunity to share our work on an informal basis. \nThe current theme is “At Home.” Send your favourite images to wpsimpact@gmail.com by the last day of the month. All submissions will be included in a short presentation of images at the first club meeting of the following month.
URL:http://wps.wps.org.nz/event/may-photo-topic-long-exposure/
LOCATION:North Island
CATEGORIES:Monthly Themes
END:VEVENT
BEGIN:VEVENT
DTSTART;TZID=Pacific/Auckland:20200401T080000
DTEND;TZID=Pacific/Auckland:20200430T170000
DTSTAMP:20260424T065930
CREATED:20200128T043502Z
LAST-MODIFIED:20200323T094144Z
UID:4406-1585728000-1588266000@wps.wps.org.nz
SUMMARY:(Postponed) April photo topic – Film
DESCRIPTION:Postponed due to Coronavirus outbreak\, More Information available in the link below:\nhttps://mailchi.mp/5fece804881c/37vuivjwn3-5022305 \nThis year\, we are going to have a monthly photo topic and invite members to take images to the theme during the month. This is an opportunity to share our work on an informal basis. This month’s theme is “Film” (images taken on film).  \nSend your favourite three images to wpsimpact@gmail.com by the last day of the month. All submissions will be included in a short presentation of images at the first club meeting of the following month.
URL:http://wps.wps.org.nz/event/april-photo-topic-film/
LOCATION:North Island
CATEGORIES:Monthly Themes
END:VEVENT
BEGIN:VEVENT
DTSTART;TZID=Pacific/Auckland:20200301T080000
DTEND;TZID=Pacific/Auckland:20200331T170000
DTSTAMP:20260424T065930
CREATED:20200127T205353Z
LAST-MODIFIED:20200128T044906Z
UID:4383-1583049600-1585674000@wps.wps.org.nz
SUMMARY:March photo topic – Street (doors and gates of Wellington)
DESCRIPTION:This year\, we will host a monthly photo topic and invite members to take images to the theme during the month. This is an opportunity to share our work on an informal basis. This month’s theme is “Street (doors and gates of Wellington)”. \nSend your favourite three images to wpsimpact@gmail.com by the last day of the month. All submissions will be included in a short presentation of images at the first club meeting of the following month.
URL:http://wps.wps.org.nz/event/march-photo-topic/
LOCATION:North Island
CATEGORIES:Monthly Themes
END:VEVENT
BEGIN:VEVENT
DTSTART;TZID=Pacific/Auckland:20200201T080000
DTEND;TZID=Pacific/Auckland:20200229T170000
DTSTAMP:20260424T065930
CREATED:20200127T204647Z
LAST-MODIFIED:20200128T044812Z
UID:4374-1580544000-1582995600@wps.wps.org.nz
SUMMARY:February photo topic – Black and white
DESCRIPTION:This year\, we are going to have a monthly photo topic and invite members to take images to the theme during the month. This is an opportunity to share our work on an informal basis. This month’s theme is “Black and white”. Send your favourite three images to wpsimpact@gmail.com by the last day of the month. All submissions will be included in a short presentation of images at the first club meeting of the following month.
URL:http://wps.wps.org.nz/event/february-topic-black-and-white/
LOCATION:North Island
CATEGORIES:Monthly Themes
END:VEVENT
BEGIN:VEVENT
DTSTART;TZID=Pacific/Auckland:20190301T080000
DTEND;TZID=Pacific/Auckland:20190331T170000
DTSTAMP:20260424T065930
CREATED:20181112T232053Z
LAST-MODIFIED:20190301T105730Z
UID:3152-1551427200-1554051600@wps.wps.org.nz
SUMMARY:WPS Film Competition
DESCRIPTION:This March will be celebrating all things Film Photography related\, with speakers and a monthly competition. \n\nYou can enter via Instagram with the hashtag #wpsfilmcomp\nOr enter via email to wpscomp@gmail.com\nYou may enter up to three images\nName each image with your name AND image number: “FirstName-LastName-NUMBER.jpg”\nImages must be larger than 2048px and no bigger than 5mb.\n\n \nRules\n\nOnly 3 entries per person\nOpen to Greater Wellington Region residents of all ages and skill levels\nPhotos must be captured on film\nImages must have been developed within the last two years\nImages to be uploaded by midnight\, March 31\nWinners will be announced during April\nAll entrants consent to their image being used by WPS either for promotion or in publication\nImages entered must be the property of the person entering it into the competition\n\nWhat we have on offer:\nPrizes to be announced at a later date.
URL:http://wps.wps.org.nz/event/film-photography/
LOCATION:North Island
CATEGORIES:Competition,Monthly Themes
ATTACH;FMTTYPE=image/png:http://wps.wps.org.nz/wp-content/uploads/2019/03/53026251_2333108056701381_709626638517665792_o.png
END:VEVENT
BEGIN:VEVENT
DTSTART;TZID=Pacific/Auckland:20190201T080000
DTEND;TZID=Pacific/Auckland:20190228T170000
DTSTAMP:20260424T065930
CREATED:20181112T234403Z
LAST-MODIFIED:20190131T191221Z
UID:3161-1549008000-1551373200@wps.wps.org.nz
SUMMARY:Mobile Photography: Competition
DESCRIPTION:)The joys of mobile photography are immense – who doesn’t love taking photos on the go anytime\, anywhere without having to worry about carrying a camera everywhere? Some of our best memories are stored in our phone’s camera roll and we bet that’s the same for you. \nCategories & Dates\n\nThemes: Open & Summer in the city\nContest begins February 1st\, 2019 and ends February 28nd 5pm\, 2019\nWinners announced Early March\, 2019\n\nThe Competition & Requirements:\nDeadline: Feb 28th\, 2019 5pm \nEntries are open to Wellington photographers using a Smartphone or tablet to take images in the Wellington region.\nPosts on personal accounts (Instagram) are also eligible. The photos should not be altered in any desktop image processing program such as Photoshop. It is OK to use mobile editing apps. \nThe use of any mobile app for editing is permissible. In some cases we may ask for the original image to verify that it’s taken with a phone. Photos which cannot be verified will be disqualified. \nUploading & Preparing your images:\n\nYou can enter up to 3 photos for each theme taken with a mobile phone.\nThe deadline is of 5pm\, 28th of February 2019.\nIt’s free to participate!\n\nPhotographs must be taken in the Wellington Region!\nHow to enter your images:\n\nPlease name each image with your name and the category you are submitting like this:\n“FirstName-LastName-Category.jpg”\nImages must be larger than 2048px and no bigger than 4mb.\nYou enter via our competition page here  or via Instagram\nYou can also enter via Instagram with the hashtag #wpsmobilecomp\n\n\nPrizes:\nAll entries compete for the overall grand prize (tbd). \nThe work of the winners and the 1st\, 2nd\, 3rd Place Winners on each category and selected others will be published on WPS website and FB page and other published WPS materials. \n\nHonorable Mentions: Our judges will award several Honorable Mention to entries to acknowledge talent as they deem fit.\nJudging Criteria: Members of the judging panel will review all entries and judge images on the basis of artistic merit\, originality\, subject\, and style and ultimately decide the winners. The Prizes will be awarded by a panel of 6 of various photographers with recognized merit in general photography\, and mobile photography in particular.
URL:http://wps.wps.org.nz/event/mobile-photography-competition-news/
LOCATION:North Island
CATEGORIES:Competition,Monthly Themes
ATTACH;FMTTYPE=image/jpeg:http://wps.wps.org.nz/wp-content/uploads/2018/11/apple-device-blur-camera-596940-4.jpg
END:VEVENT
END:VCALENDAR