BEGIN:VCALENDAR
VERSION:2.0
PRODID:-//WPS - Wellington Photographic Society - ECPv6.13.2.1//NONSGML v1.0//EN
CALSCALE:GREGORIAN
METHOD:PUBLISH
X-WR-CALNAME:WPS - Wellington Photographic Society
X-ORIGINAL-URL:http://wps.wps.org.nz
X-WR-CALDESC:Events for WPS - Wellington Photographic Society
REFRESH-INTERVAL;VALUE=DURATION:PT1H
X-Robots-Tag:noindex
X-PUBLISHED-TTL:PT1H
BEGIN:VTIMEZONE
TZID:Pacific/Auckland
BEGIN:STANDARD
TZOFFSETFROM:+1300
TZOFFSETTO:+1200
TZNAME:NZST
DTSTART:20250405T140000
END:STANDARD
BEGIN:DAYLIGHT
TZOFFSETFROM:+1200
TZOFFSETTO:+1300
TZNAME:NZDT
DTSTART:20250927T140000
END:DAYLIGHT
END:VTIMEZONE
BEGIN:VEVENT
DTSTART;TZID=Pacific/Auckland:20251030T190000
DTEND;TZID=Pacific/Auckland:20251030T210000
DTSTAMP:20260424T122448
CREATED:20251007T041509Z
LAST-MODIFIED:20251028T051411Z
UID:7367-1761850800-1761858000@wps.wps.org.nz
SUMMARY:Member 10x10 Presentation *Rescheduled*
DESCRIPTION:Thankfully\, we have been able to reschedule this meeting with the assistance of the Tramping Club. We hope you all successfully braved the terrible weather last week.Ten images. Ten minutes. Some of our own members present what they’ve been up to recently with their photography.From our winning interclub set\, members will present what they’ve been up to or work they admire – there is going to be a little bit of everything to see at this meeting. This is a great chance to see the work of other members and how they approach different subjects\, and see how they get inspired by seeing the work of others.\n\n\n\n\n\nWe hope you enjoy this presentation of our members’ photographs.\n\n\n\n\n\nThursday 30th October\, Tararua Tramping Club\, Doors Open 7pm
URL:http://wps.wps.org.nz/event/member-10x10-presentation/
LOCATION:Tararua Tramping Club
CATEGORIES:Club Meetings
ATTACH;FMTTYPE=image/jpeg:http://wps.wps.org.nz/wp-content/uploads/2025/10/5630048435_1dff027730_o-e1759810499378.jpg
ORGANIZER;CN="Shannon Doyle":MAILTO:doyleshannon@hotmail.com
END:VEVENT
END:VCALENDAR