BEGIN:VCALENDAR
VERSION:2.0
PRODID:-//WPS - Wellington Photographic Society - ECPv6.13.2.1//NONSGML v1.0//EN
CALSCALE:GREGORIAN
METHOD:PUBLISH
X-WR-CALNAME:WPS - Wellington Photographic Society
X-ORIGINAL-URL:http://wps.wps.org.nz
X-WR-CALDESC:Events for WPS - Wellington Photographic Society
REFRESH-INTERVAL;VALUE=DURATION:PT1H
X-Robots-Tag:noindex
X-PUBLISHED-TTL:PT1H
BEGIN:VTIMEZONE
TZID:Pacific/Auckland
BEGIN:STANDARD
TZOFFSETFROM:+1300
TZOFFSETTO:+1200
TZNAME:NZST
DTSTART:20260404T140000
END:STANDARD
BEGIN:DAYLIGHT
TZOFFSETFROM:+1200
TZOFFSETTO:+1300
TZNAME:NZDT
DTSTART:20260926T140000
END:DAYLIGHT
END:VTIMEZONE
BEGIN:VEVENT
DTSTART;TZID=Pacific/Auckland:20260910T190000
DTEND;TZID=Pacific/Auckland:20260910T210000
DTSTAMP:20260424T114351
CREATED:20260207T073901Z
LAST-MODIFIED:20260207T073901Z
UID:7458-1789066800-1789074000@wps.wps.org.nz
SUMMARY:AGM 2026
DESCRIPTION:Details to be confirmed as they become available.
URL:http://wps.wps.org.nz/event/agm-2026/
LOCATION:Tararua Tramping Club
CATEGORIES:Club Meetings
END:VEVENT
END:VCALENDAR