BEGIN:VCALENDAR
VERSION:2.0
PRODID:-//WPS - Wellington Photographic Society - ECPv6.13.2.1//NONSGML v1.0//EN
CALSCALE:GREGORIAN
METHOD:PUBLISH
X-WR-CALNAME:WPS - Wellington Photographic Society
X-ORIGINAL-URL:http://wps.wps.org.nz
X-WR-CALDESC:Events for WPS - Wellington Photographic Society
REFRESH-INTERVAL;VALUE=DURATION:PT1H
X-Robots-Tag:noindex
X-PUBLISHED-TTL:PT1H
BEGIN:VTIMEZONE
TZID:Pacific/Auckland
BEGIN:STANDARD
TZOFFSETFROM:+1300
TZOFFSETTO:+1200
TZNAME:NZST
DTSTART:20230401T140000
END:STANDARD
BEGIN:DAYLIGHT
TZOFFSETFROM:+1200
TZOFFSETTO:+1300
TZNAME:NZDT
DTSTART:20230923T140000
END:DAYLIGHT
END:VTIMEZONE
BEGIN:VEVENT
DTSTART;TZID=Pacific/Auckland:20230824T190000
DTEND;TZID=Pacific/Auckland:20230824T210000
DTSTAMP:20260426T102730
CREATED:20230822T040341Z
LAST-MODIFIED:20230822T040341Z
UID:6760-1692903600-1692910800@wps.wps.org.nz
SUMMARY:Evening Photowalk - City & Architecture
DESCRIPTION:Details will be finalised shortly. But we are meeting at the Tararua Tramping Club from 7.00pm and heading from there. \nFor those of you that want to pick up there Exhibition prints\, there will be an opportunity to do so from 7pm.
URL:http://wps.wps.org.nz/event/evening-photowalk-city-architecture/
LOCATION:Tararua Tramping Club
CATEGORIES:Club Meetings,Meet Ups
END:VEVENT
END:VCALENDAR