BEGIN:VCALENDAR
VERSION:2.0
PRODID:-//WPS - Wellington Photographic Society - ECPv6.13.2.1//NONSGML v1.0//EN
CALSCALE:GREGORIAN
METHOD:PUBLISH
X-ORIGINAL-URL:http://wps.wps.org.nz
X-WR-CALDESC:Events for WPS - Wellington Photographic Society
REFRESH-INTERVAL;VALUE=DURATION:PT1H
X-Robots-Tag:noindex
X-PUBLISHED-TTL:PT1H
BEGIN:VTIMEZONE
TZID:Pacific/Auckland
BEGIN:STANDARD
TZOFFSETFROM:+1300
TZOFFSETTO:+1200
TZNAME:NZST
DTSTART:20240406T140000
END:STANDARD
BEGIN:DAYLIGHT
TZOFFSETFROM:+1200
TZOFFSETTO:+1300
TZNAME:NZDT
DTSTART:20240928T140000
END:DAYLIGHT
END:VTIMEZONE
BEGIN:VEVENT
DTSTART;TZID=Pacific/Auckland:20240720T100000
DTEND;TZID=Pacific/Auckland:20240720T120000
DTSTAMP:20260425T161316
CREATED:20240715T025643Z
LAST-MODIFIED:20240715T025801Z
UID:7033-1721469600-1721476800@wps.wps.org.nz
SUMMARY:Black and White - Meetup
DESCRIPTION:Join us for an opportunity to shoot in black and white in a relaxed environment. \nStarting at the Te Papa Museum ground floor cafe\, we will have a chat\, set our cameras to black and white together and then set off to capture some images. Returning to the cafe afterwards we will then hand our cameras around to show and discuss what we each captured. \n\nThis is a fun\, relaxed shoot suitable for any level of experience.Equipment: Camera with a blank SD card (a phone with a monochrome setting would also work).\nSaturday\, 20th July\, 10am to Lunchtime\, Te Papa Museum Cafe
URL:http://wps.wps.org.nz/event/black-and-white-meetup/
CATEGORIES:Club Meetings,Meet Ups
ATTACH;FMTTYPE=image/jpeg:http://wps.wps.org.nz/wp-content/uploads/2024/07/Te-Papa-bw-0215-scaled-e1721012189733.jpg
END:VEVENT
END:VCALENDAR