BEGIN:VCALENDAR
VERSION:2.0
PRODID:-//WPS - Wellington Photographic Society - ECPv6.13.2.1//NONSGML v1.0//EN
CALSCALE:GREGORIAN
METHOD:PUBLISH
X-WR-CALNAME:WPS - Wellington Photographic Society
X-ORIGINAL-URL:http://wps.wps.org.nz
X-WR-CALDESC:Events for WPS - Wellington Photographic Society
REFRESH-INTERVAL;VALUE=DURATION:PT1H
X-Robots-Tag:noindex
X-PUBLISHED-TTL:PT1H
BEGIN:VTIMEZONE
TZID:Pacific/Auckland
BEGIN:STANDARD
TZOFFSETFROM:+1300
TZOFFSETTO:+1200
TZNAME:NZST
DTSTART:20240406T140000
END:STANDARD
BEGIN:DAYLIGHT
TZOFFSETFROM:+1200
TZOFFSETTO:+1300
TZNAME:NZDT
DTSTART:20240928T140000
END:DAYLIGHT
END:VTIMEZONE
BEGIN:VEVENT
DTSTART;TZID=Pacific/Auckland:20240323T113000
DTEND;TZID=Pacific/Auckland:20240323T140000
DTSTAMP:20260426T004656
CREATED:20240313T012118Z
LAST-MODIFIED:20240313T012228Z
UID:6947-1711193400-1711202400@wps.wps.org.nz
SUMMARY:CubaDupa - Meetup
DESCRIPTION:CubaDupa is coming up on the weekend of 23-24 March\, and we’re planning a meet up. \nWhat’s the plan?\nWe’ll meet for coffee at Raglan Roast\, 40 Abel Smith Street from 11:30 on 23rd March \nAs the festival gets underway from midday we will walk the length of Cuba down to Wakefield Street and back\, exploring the side streets\, parks and hidden venues as we go. \nWe will meet back for a street food lunch at the Fresh Choice Street Feast from 1:30pm \nWhat can we photograph?\nThis will be a great weekend to capture some street photography as part of the meet up. \nSeparately\, you could practice event photography at the various stages around the festival as the sun sets and the lights come on. This isn’t part of the meet up – just an opportunity. \nWhat shall we do with our photos afterwards?\nEveryone is encouraged to share 2-4 images taken at the festival whether you come to the meet up or go out on your own. Send your favourites after the event to comms@wps.org.nz or share them on our discussion group or on Instagram and tag the society. \nWe will look to have a presentation of our images at a future club night and/or produce a zine capturing the flavour of the festival as seen through our lenses. \nWhere can I find out more?\nThe festival runs Saturday – 12pm to 12am; Sunday – 12pm to 6pm More info at https://www.facebook.com/cubadupa where a festival map and timetable will be available soon (they say).
URL:http://wps.wps.org.nz/event/cubadupa-meetup/
CATEGORIES:Club Meetings,Meet Ups
ATTACH;FMTTYPE=image/jpeg:http://wps.wps.org.nz/wp-content/uploads/2024/03/431378438_732834642172958_1773470711159002770_n-e1710292937542.jpg
END:VEVENT
END:VCALENDAR