BEGIN:VCALENDAR
VERSION:2.0
PRODID:-//WPS - Wellington Photographic Society - ECPv6.13.2.1//NONSGML v1.0//EN
CALSCALE:GREGORIAN
METHOD:PUBLISH
X-ORIGINAL-URL:http://wps.wps.org.nz
X-WR-CALDESC:Events for WPS - Wellington Photographic Society
REFRESH-INTERVAL;VALUE=DURATION:PT1H
X-Robots-Tag:noindex
X-PUBLISHED-TTL:PT1H
BEGIN:VTIMEZONE
TZID:Pacific/Auckland
BEGIN:STANDARD
TZOFFSETFROM:+1300
TZOFFSETTO:+1200
TZNAME:NZST
DTSTART:20240406T140000
END:STANDARD
BEGIN:DAYLIGHT
TZOFFSETFROM:+1200
TZOFFSETTO:+1300
TZNAME:NZDT
DTSTART:20240928T140000
END:DAYLIGHT
END:VTIMEZONE
BEGIN:VEVENT
DTSTART;TZID=Pacific/Auckland:20240411T190000
DTEND;TZID=Pacific/Auckland:20240411T210000
DTSTAMP:20260425T234229
CREATED:20240408T010023Z
LAST-MODIFIED:20240408T010341Z
UID:6958-1712862000-1712869200@wps.wps.org.nz
SUMMARY:Clive Pigott - Alternative Printing Processes
DESCRIPTION:Clive Pigott – Alternative Printing Processes. Thursday 11th April\, Tararua Tramping Club\, 7pm \nAbout Clive:\nI’ve been making photographs since I was 12. I’m now 58. \nI am not a naturally talented photographer. My eye didn’t really improve until I was in my 40’s and only after I had adopted digital. Until then successful images were hit and miss. \nI’d say generally my images are simple but deliberate. I aim to have enough in them for the viewer to take a longer look (but then don’t we all want that?). \nI’d probably say I’ve been on a journey with photography over the years. It has definitely\, been a journey of great fun and reward\, as I have got better at converting my images into prints using alternative processes: Cyanotype (with/without botanical toning)\, 4-colour Gum bichromate\, and Anthotype. \nIn my talk I’ll tell you about these processes and why I like them\, I’ll show you some of the successes and failures (and hence why it is still a journey)\, and I’ll give you some tips for getting started.
URL:http://wps.wps.org.nz/event/clive-pigott-alternative-printing-processes/
LOCATION:Tararua Tramping Club
CATEGORIES:Club Meetings
ATTACH;FMTTYPE=image/jpeg:http://wps.wps.org.nz/wp-content/uploads/2024/04/for-wps-advertising02042024_0002-scaled-e1712538198871.jpg
END:VEVENT
END:VCALENDAR