BEGIN:VCALENDAR
VERSION:2.0
PRODID:-//WPS - Wellington Photographic Society - ECPv6.13.2.1//NONSGML v1.0//EN
CALSCALE:GREGORIAN
METHOD:PUBLISH
X-WR-CALNAME:WPS - Wellington Photographic Society
X-ORIGINAL-URL:http://wps.wps.org.nz
X-WR-CALDESC:Events for WPS - Wellington Photographic Society
REFRESH-INTERVAL;VALUE=DURATION:PT1H
X-Robots-Tag:noindex
X-PUBLISHED-TTL:PT1H
BEGIN:VTIMEZONE
TZID:Pacific/Auckland
BEGIN:STANDARD
TZOFFSETFROM:+1300
TZOFFSETTO:+1200
TZNAME:NZST
DTSTART:20230401T140000
END:STANDARD
BEGIN:DAYLIGHT
TZOFFSETFROM:+1200
TZOFFSETTO:+1300
TZNAME:NZDT
DTSTART:20230923T140000
END:DAYLIGHT
END:VTIMEZONE
BEGIN:VEVENT
DTSTART;TZID=Pacific/Auckland:20230727T190000
DTEND;TZID=Pacific/Auckland:20230727T210000
DTSTAMP:20260426T121508
CREATED:20230425T092533Z
LAST-MODIFIED:20230428T012020Z
UID:6659-1690484400-1690491600@wps.wps.org.nz
SUMMARY:Dr Nicole Miller - A look under the waves of Wellington
DESCRIPTION:A look under the waves of Wellington – exploring the success and challenges of marine conservation \nDr Nicole Miller is Chair of the Friends of Taputeranga Marine Reserve Charitable Trust and the President of the Wellington Underwater Club. Nicole designs and leads marine citizen science projects and uses a range of visual and immersive techniques to connect people to the marine environment. \nNicole will take the audience on a visual journey through Taputeranga Marine Reserve and Wellington Harbour. You will hear about the history of the marine reserve\, marine conservation successes and the current pressures on Wellington’s marine environment. \nThere will be an opportunity to experience a dive in Taputeranga Marine Reserve by taking a virtual tour of the reserve. Find out more www.adventure360.co.nz/360tmr and www.taputeranga.org.nz. \n 
URL:http://wps.wps.org.nz/event/dr-nichole-miller-a-look-under-the-waves-of-wellington/
LOCATION:Tararua Tramping Club
CATEGORIES:Club Meetings,Meet Ups
ATTACH;FMTTYPE=image/jpeg:http://wps.wps.org.nz/wp-content/uploads/2023/04/VR-Flyer-V1-WPS-e1682644623813.jpg
END:VEVENT
END:VCALENDAR