BEGIN:VCALENDAR
VERSION:2.0
PRODID:-//WPS - Wellington Photographic Society - ECPv6.13.2.1//NONSGML v1.0//EN
CALSCALE:GREGORIAN
METHOD:PUBLISH
X-ORIGINAL-URL:http://wps.wps.org.nz
X-WR-CALDESC:Events for WPS - Wellington Photographic Society
REFRESH-INTERVAL;VALUE=DURATION:PT1H
X-Robots-Tag:noindex
X-PUBLISHED-TTL:PT1H
BEGIN:VTIMEZONE
TZID:Pacific/Auckland
BEGIN:STANDARD
TZOFFSETFROM:+1300
TZOFFSETTO:+1200
TZNAME:NZST
DTSTART:20240406T140000
END:STANDARD
BEGIN:DAYLIGHT
TZOFFSETFROM:+1200
TZOFFSETTO:+1300
TZNAME:NZDT
DTSTART:20240928T140000
END:DAYLIGHT
END:VTIMEZONE
BEGIN:VEVENT
DTSTART;TZID=Pacific/Auckland:20240316T100000
DTEND;TZID=Pacific/Auckland:20240316T150000
DTSTAMP:20260426T004854
CREATED:20240228T071304Z
LAST-MODIFIED:20240228T071336Z
UID:6937-1710583200-1710601200@wps.wps.org.nz
SUMMARY:Meetup: Kapiti Aeromodellers Club - Annual Rally 2024
DESCRIPTION:Capture the skies\, the excitement\, and the essence of aviation at the Kapiti Aeromodellers Club’s 2024 Annual Rally! We extend a warm invitation to the talented members of the Wellington Photography Club to join us on the 16th of March from 10 am to 3 pm. \nEvent Details:\n📍 Location: Queen Elizabeth Park\, Machay’s Crossing\, Paekakariki (Google maps: https://maps.app.goo.gl/ZnFbaHZuLZzJ3QQL7)\n🗓️ Date: 16th March\n🕙 Time: 10 am – 3 pm\n🎟️ Admission: Free (Donations appreciated) \nPhotography Opportunities Abound: \nAerial Displays: Capture stunning shots of aeromodellers showcasing their skills in the open skies.\nVantage Points: Our gate marshals will guide you to strategic locations with breathtaking views of the pits and airstrip.\nAtmosphere: Immerse yourself in the dynamic atmosphere as aviation enthusiasts come together for a thrilling weekend.\nCulinary Delights:\nIndulge in the flavours of the “Spare Rib Cafe\,” serving up mouthwatering BBQ food and refreshing drinks. \nStay Connected:\nFor updates and more information\, check out our Facebook page: https://fb.me/e/1GfP7WDgs \nMeeting Point – Queen Elizabeth Park\, Mackay’s Crossing\, Paekakariki (Google maps: https://maps.app.goo.gl/ZnFbaHZuLZzJ3QQL7) \nContact Person – Rayan Amarasekara (021 21 53 433) \nBring your cameras\, Tele lenses\, creativity\, and passion for photography to make this event a visual masterpiece. We look forward to seeing your unique perspectives and artistic interpretations of the Kapiti Aeromodellers Club’s Annual Rally. \nFly high with your lens\,\nKapiti Aeromodellers Club 📸✈️
URL:http://wps.wps.org.nz/event/kapiti-aeromodellers-club-annual-rally-2024/
CATEGORIES:Club Meetings,Meet Ups
ATTACH;FMTTYPE=image/jpeg:http://wps.wps.org.nz/wp-content/uploads/2024/02/Kapiti-Aeromodellers-e1709104378244.jpg
END:VEVENT
END:VCALENDAR