BEGIN:VCALENDAR
VERSION:2.0
PRODID:-//WPS - Wellington Photographic Society - ECPv6.13.2.1//NONSGML v1.0//EN
CALSCALE:GREGORIAN
METHOD:PUBLISH
X-ORIGINAL-URL:http://wps.wps.org.nz
X-WR-CALDESC:Events for WPS - Wellington Photographic Society
REFRESH-INTERVAL;VALUE=DURATION:PT1H
X-Robots-Tag:noindex
X-PUBLISHED-TTL:PT1H
BEGIN:VTIMEZONE
TZID:Pacific/Auckland
BEGIN:STANDARD
TZOFFSETFROM:+1300
TZOFFSETTO:+1200
TZNAME:NZST
DTSTART:20250405T140000
END:STANDARD
BEGIN:DAYLIGHT
TZOFFSETFROM:+1200
TZOFFSETTO:+1300
TZNAME:NZDT
DTSTART:20250927T140000
END:DAYLIGHT
END:VTIMEZONE
BEGIN:VEVENT
DTSTART;TZID=Pacific/Auckland:20250925T190000
DTEND;TZID=Pacific/Auckland:20250925T210000
DTSTAMP:20260424T162511
CREATED:20250922T102037Z
LAST-MODIFIED:20250922T102350Z
UID:7354-1758826800-1758834000@wps.wps.org.nz
SUMMARY:Jonathan Kay - Massey University Lecturer/Master of Fine Arts Coordinator
DESCRIPTION:Jonathan Kay is a photographic artist\, researcher\, and lecturer based at Massey University in Te Whanganui-a-Tara/Wellington. His work explores the intersection of art and science\, using photography to reveal the unseen and challenge conventional notions of landscape. Over the past seven years\, his research has focused on developing a site-specific and responsive approach to photographic interventions within the landscape. \nDrawing inspiration from scientific ‘fieldwork\,’ Kay’s practice involves close observation and data collection\, using these methods to uncover new insights into specific environments. However\, his approach extends beyond the typical scientific framework by leveraging the unique possibilities of the photographic medium. This process enables him to move beyond the traditional\, idealized representation of landscapes\, offering deeper\, more complex interpretations. \nSeptember 25\, Tararua Tramping Club (4 Moncrieff St\, Mt Victoria)\, Doors Open at 7pm \nIf you’re curious about the Wellington Photographic Society\, you’re welcome to attend two meetings for free before deciding whether to join. It’s a great way to meet the community and see what we’re all about!https://wps.wps.org.nz/
URL:http://wps.wps.org.nz/event/jonathan-kay-massey-university-lecturer-master-of-fine-arts-coordinator/
LOCATION:Tararua Tramping Club
ATTACH;FMTTYPE=image/jpeg:http://wps.wps.org.nz/wp-content/uploads/2025/09/3-e1758536424862.jpg
END:VEVENT
END:VCALENDAR