BEGIN:VCALENDAR
VERSION:2.0
PRODID:-//WPS - Wellington Photographic Society - ECPv6.13.2.1//NONSGML v1.0//EN
CALSCALE:GREGORIAN
METHOD:PUBLISH
X-WR-CALNAME:WPS - Wellington Photographic Society
X-ORIGINAL-URL:http://wps.wps.org.nz
X-WR-CALDESC:Events for WPS - Wellington Photographic Society
REFRESH-INTERVAL;VALUE=DURATION:PT1H
X-Robots-Tag:noindex
X-PUBLISHED-TTL:PT1H
BEGIN:VTIMEZONE
TZID:Pacific/Auckland
BEGIN:STANDARD
TZOFFSETFROM:+1300
TZOFFSETTO:+1200
TZNAME:NZST
DTSTART:20230401T140000
END:STANDARD
BEGIN:DAYLIGHT
TZOFFSETFROM:+1200
TZOFFSETTO:+1300
TZNAME:NZDT
DTSTART:20230923T140000
END:DAYLIGHT
END:VTIMEZONE
BEGIN:VEVENT
DTSTART;TZID=Pacific/Auckland:20230209T190000
DTEND;TZID=Pacific/Auckland:20230209T210000
DTSTAMP:20260426T121824
CREATED:20230131T091235Z
LAST-MODIFIED:20230131T091440Z
UID:6583-1675969200-1675976400@wps.wps.org.nz
SUMMARY:Member Summer Showcase & Fujifilm NZ
DESCRIPTION:Who doesn’t love summer? It’s the season where you might want to travel\, go out with friends\, or take advantage of the golden hour. Whatever the case\, it’s definitely one of the best times to take out your camera.\n \nWe are looking for members to showcase what they have been up to during their summer breaks. And we’d love to see what our members have been doing – learning new skills\, photographing new environments or just making memories with family and friends.\n \nIf you think you might have something you like to show off\, let at know at comms@wps.org.nz.\n \nThis member presentation will be followed by a presentation by Fujifilm New Zealand
URL:http://wps.wps.org.nz/event/member-summer-showcase-fujifilm-nz/
LOCATION:TTC Tramping Hall\, 4 Moncrieff St\, Wellington\, North Island\, 6011\, New Zealand
ATTACH;FMTTYPE=image/jpeg:http://wps.wps.org.nz/wp-content/uploads/2023/01/ethan-robertson-SYx3UCHZJlo-unsplash-scaled-e1675156315797.jpg
END:VEVENT
END:VCALENDAR