BEGIN:VCALENDAR
VERSION:2.0
PRODID:-//WPS - Wellington Photographic Society - ECPv6.13.2.1//NONSGML v1.0//EN
CALSCALE:GREGORIAN
METHOD:PUBLISH
X-WR-CALNAME:WPS - Wellington Photographic Society
X-ORIGINAL-URL:http://wps.wps.org.nz
X-WR-CALDESC:Events for WPS - Wellington Photographic Society
REFRESH-INTERVAL;VALUE=DURATION:PT1H
X-Robots-Tag:noindex
X-PUBLISHED-TTL:PT1H
BEGIN:VTIMEZONE
TZID:Pacific/Auckland
BEGIN:STANDARD
TZOFFSETFROM:+1300
TZOFFSETTO:+1200
TZNAME:NZST
DTSTART:20240406T140000
END:STANDARD
BEGIN:DAYLIGHT
TZOFFSETFROM:+1200
TZOFFSETTO:+1300
TZNAME:NZDT
DTSTART:20240928T140000
END:DAYLIGHT
END:VTIMEZONE
BEGIN:VEVENT
DTSTART;TZID=Pacific/Auckland:20240808T190000
DTEND;TZID=Pacific/Auckland:20240808T210000
DTSTAMP:20260425T095310
CREATED:20240613T030158Z
LAST-MODIFIED:20240722T113233Z
UID:7019-1723143600-1723150800@wps.wps.org.nz
SUMMARY:Black & White Photography - Member Presentation
DESCRIPTION:Black & White – Member Presentation:Sometimes creativity comes from restriction. Black and white photography is a common restriction\, offering a vastly different image depending on the treatment of black and white in the image.\n\nSo\, we’d like to see how working within the restriction of black and white has influenced your creativity.\nWe are looking for a few people to show off and talk about their black and white images. This is a chance to inspire other members and share your hard-earned lessons!\n\nWe are also open to members who would be keen to talk about some images from their favourite black and white photographer\, including how that persons work may have influenced their own.Let us know if you might be keen \nThursday August 8th\, Tararua Tramping Club\, Doors Open 7pm
URL:http://wps.wps.org.nz/event/black-white-photography-member-presentation/
LOCATION:Tararua Tramping Club
CATEGORIES:Club Meetings,Meet Ups
ATTACH;FMTTYPE=image/jpeg:http://wps.wps.org.nz/wp-content/uploads/2024/06/yusuf-evli-DjQx057gBC0-unsplash-scaled-e1718247694323.jpg
END:VEVENT
END:VCALENDAR