BEGIN:VCALENDAR
VERSION:2.0
PRODID:-//WPS - Wellington Photographic Society - ECPv6.13.2.1//NONSGML v1.0//EN
CALSCALE:GREGORIAN
METHOD:PUBLISH
X-WR-CALNAME:WPS - Wellington Photographic Society
X-ORIGINAL-URL:http://wps.wps.org.nz
X-WR-CALDESC:Events for WPS - Wellington Photographic Society
REFRESH-INTERVAL;VALUE=DURATION:PT1H
X-Robots-Tag:noindex
X-PUBLISHED-TTL:PT1H
BEGIN:VTIMEZONE
TZID:Pacific/Auckland
BEGIN:STANDARD
TZOFFSETFROM:+1300
TZOFFSETTO:+1200
TZNAME:NZST
DTSTART:20250405T140000
END:STANDARD
BEGIN:DAYLIGHT
TZOFFSETFROM:+1200
TZOFFSETTO:+1300
TZNAME:NZDT
DTSTART:20250927T140000
END:DAYLIGHT
END:VTIMEZONE
BEGIN:VEVENT
DTSTART;TZID=Pacific/Auckland:20250213T190000
DTEND;TZID=Pacific/Auckland:20250213T210000
DTSTAMP:20260425T002143
CREATED:20250209T090423Z
LAST-MODIFIED:20250209T090423Z
UID:7145-1739473200-1739480400@wps.wps.org.nz
SUMMARY:Back in Frame - Member Presentation
DESCRIPTION:Welcome to 2025! Join us for the first meeting back.\n\nThis meeting will be a series of member presentations about what they’ve been up to over the summer.\n\nWe are looking for a few people to show off and talk about images they’ve taken over the summer. This is a chance to inspire other members and share your hard-earned lessons (or your well-earned holiday!)\n\nIf you’ve got something else you’d like to share\, let us know and we will see if we can fit you into the programme too!\nLet us know if you might be keen \n\nThursday 13th of February: Doors: 7pm\, Meeting Start: 7:30pm
URL:http://wps.wps.org.nz/event/back-in-frame-member-presentation/
LOCATION:Tararua Tramping Club
CATEGORIES:Club Meetings
ATTACH;FMTTYPE=image/jpeg:http://wps.wps.org.nz/wp-content/uploads/2025/02/sergey-shmidt-koy6FlCCy5s-unsplash-1-scaled-e1739091811612.jpg
END:VEVENT
END:VCALENDAR