BEGIN:VCALENDAR
VERSION:2.0
PRODID:-//WPS - Wellington Photographic Society - ECPv6.13.2.1//NONSGML v1.0//EN
CALSCALE:GREGORIAN
METHOD:PUBLISH
X-WR-CALNAME:WPS - Wellington Photographic Society
X-ORIGINAL-URL:http://wps.wps.org.nz
X-WR-CALDESC:Events for WPS - Wellington Photographic Society
REFRESH-INTERVAL;VALUE=DURATION:PT1H
X-Robots-Tag:noindex
X-PUBLISHED-TTL:PT1H
BEGIN:VTIMEZONE
TZID:Pacific/Auckland
BEGIN:STANDARD
TZOFFSETFROM:+1300
TZOFFSETTO:+1200
TZNAME:NZST
DTSTART:20240406T140000
END:STANDARD
BEGIN:DAYLIGHT
TZOFFSETFROM:+1200
TZOFFSETTO:+1300
TZNAME:NZDT
DTSTART:20240928T140000
END:DAYLIGHT
END:VTIMEZONE
BEGIN:VEVENT
DTSTART;TZID=Pacific/Auckland:20240328T190000
DTEND;TZID=Pacific/Auckland:20240328T210000
DTSTAMP:20260426T013302
CREATED:20240204T062545Z
LAST-MODIFIED:20240213T092135Z
UID:6905-1711652400-1711659600@wps.wps.org.nz
SUMMARY:Speaker - Rebecca Kempton (Commercial and Portrait Professional Photographer)
DESCRIPTION:Rebecca Kempton is a multi-award winning full-time Commercial and Portrait Professional Photographer who is based in the beautiful Wairarapa town of Greytown. Rebecca holds a Master of Photography Distinction I bar with the NZ Institute of Professional Photography and has been a finalist 4 times in the past few years for NZ Documentary and Landscape Photographer of the Year and she also judges the NZIPP Iris Awards.\n  \n\n\n\n\nRebecca will be sharing her journey of photography – where it all began\, where she is now and all the pieces in between.\n\n\n\nTo find out more about Rebecca’s work visit: https://www.rebeccakempton.com/
URL:http://wps.wps.org.nz/event/speaker-rebecca-kempton/
CATEGORIES:Club Meetings
ATTACH;FMTTYPE=image/jpeg:http://wps.wps.org.nz/wp-content/uploads/2024/02/E5B8726-Edit.jpg
END:VEVENT
END:VCALENDAR