BEGIN:VCALENDAR
VERSION:2.0
PRODID:-//WPS - Wellington Photographic Society - ECPv6.13.2.1//NONSGML v1.0//EN
CALSCALE:GREGORIAN
METHOD:PUBLISH
X-ORIGINAL-URL:http://wps.wps.org.nz
X-WR-CALDESC:Events for WPS - Wellington Photographic Society
REFRESH-INTERVAL;VALUE=DURATION:PT1H
X-Robots-Tag:noindex
X-PUBLISHED-TTL:PT1H
BEGIN:VTIMEZONE
TZID:Pacific/Auckland
BEGIN:STANDARD
TZOFFSETFROM:+1300
TZOFFSETTO:+1200
TZNAME:NZST
DTSTART:20240406T140000
END:STANDARD
BEGIN:DAYLIGHT
TZOFFSETFROM:+1200
TZOFFSETTO:+1300
TZNAME:NZDT
DTSTART:20240928T140000
END:DAYLIGHT
END:VTIMEZONE
BEGIN:VEVENT
DTSTART;TZID=Pacific/Auckland:20240414T174500
DTEND;TZID=Pacific/Auckland:20240414T200000
DTSTAMP:20260426T044930
CREATED:20240408T073849Z
LAST-MODIFIED:20240408T073849Z
UID:6961-1713116700-1713124800@wps.wps.org.nz
SUMMARY:Practical Session - Steel Wool Photography
DESCRIPTION:Join us this Sunday evening (April 14th) for some steel wool photography with WPS member Barry Mahon!\n\nTime and Location:\nWe will begin the night at Freyberg Pool parking area at 1745.\nIf you arrive late or can’t find us\, please message WPS directly (via social media) or our host Bronwyn at 0221229801.\n\nOnce we go over safety and best practices for steel wool photography\, you will be free to work in small groups to have a go in the nearby area. We will have tools for light painting available as well\n\nWhat to bring:\nPlease bring your camera\, tripod\, and a remote or familiarity with your camera self-timer\, long exposure such as 30 sec\, and exposure control.\nYou can also bring a steel whisk and a short piece of rope to spin it with and a lighter. We will provide steel wool but the more items you can provide\, the more pictures you will be able to get.\n\nPlease be aware of risk of flying very hot embers so a thick coat and a hat is recommended\, as are safety glasses and gloves. Dark colours and natural materials preferred. Head torches with red lights are also recommended to help maintain night vision.\n\nPlease read this page before the meetup!\nhttps://shorturl.at/dyz59\nIn the event of rain and wind\, the meetup will be postponed so keep your eye on social media and the WPS website for updates.\n\nSee you on Sunday!
URL:http://wps.wps.org.nz/event/practical-session-steel-wool-photography/
CATEGORIES:Club Meetings
ATTACH;FMTTYPE=image/jpeg:http://wps.wps.org.nz/wp-content/uploads/2024/04/images-e1712561882150.jpg
END:VEVENT
END:VCALENDAR