BEGIN:VCALENDAR
VERSION:2.0
PRODID:-//WPS - Wellington Photographic Society - ECPv6.13.2.1//NONSGML v1.0//EN
CALSCALE:GREGORIAN
METHOD:PUBLISH
X-ORIGINAL-URL:http://wps.wps.org.nz
X-WR-CALDESC:Events for WPS - Wellington Photographic Society
REFRESH-INTERVAL;VALUE=DURATION:PT1H
X-Robots-Tag:noindex
X-PUBLISHED-TTL:PT1H
BEGIN:VTIMEZONE
TZID:Pacific/Auckland
BEGIN:STANDARD
TZOFFSETFROM:+1300
TZOFFSETTO:+1200
TZNAME:NZST
DTSTART:20240406T140000
END:STANDARD
BEGIN:DAYLIGHT
TZOFFSETFROM:+1200
TZOFFSETTO:+1300
TZNAME:NZDT
DTSTART:20240928T140000
END:DAYLIGHT
END:VTIMEZONE
BEGIN:VEVENT
DTSTART;TZID=Pacific/Auckland:20241117T120000
DTEND;TZID=Pacific/Auckland:20241117T160000
DTSTAMP:20260425T113302
CREATED:20241002T092836Z
LAST-MODIFIED:20241002T094227Z
UID:7064-1731844800-1731859200@wps.wps.org.nz
SUMMARY:Interclub Print Battle 2024
DESCRIPTION:The Annual Interclub Print Battle hosted by the Wellington Photographic Society. November 17th\, Doors open 12pm\, at the Tararua Tramping Club\, 4 Moncrieff St\, Mount Cook\, Wellington. \nThe Wellington Interclub Print Battle is an annual competition between the photographic clubs in the greater Wellington area that are affiliated to the Photographic Society of New Zealand. In the last couple of years\, an invitation has been extended to clubs further afield\, to boost the number of clubs participating. \n \nThe clubs participating in the 2024 competition are: \n\nWellington Photographic Society\nJohnsonville Camera Club\nPorirua Photography Club\nKapiti Coast Photographic Society\nWhanganui Camera Club\n\nHere are the topics for 2024.\nWe are happy to provide definitions of any subjects \n\nMinimalist\nTeal & Orange\nReflective\nMultiple Exposure\nConservation\nPareidolia: Seeing faces in Nature/Built Environment\nIn Miniature\nSuper Ordinary Life\nThe Sea\nShapes & Patterns\n\nThe competition has ten rounds\, each with a different topic. The participating clubs are asked to select one image for each topic from the work of their members to be their entry for that round. \nFor each round\, each club brings up their image for that topic and places it on the print stand for judging. The judge is asked to give a brief comment about each image and then rank the entries in order. The first placed print is awarded one point\, the second placed print is awarded two points\, and so on. At the end of the competition\, the club with the lowest cumulative score over the ten rounds is declared the winner and is presented with a trophy\, which was donated by the Kapiti Coast Photographic Society in 2008. \nThere is also the Stella Daniell Award presented to the individual photographer for the best abstract image across all the rounds\, as selected by the judge. The award is named in memory of Stella Daniell\, who was a member of both the Wellington Photographic Society and the Karori Camera Club and was known for her abstract images. \nWhere do you send submissions? comms@wps.org.nz\nWhat’s the deadline? October 24th 2024. This will give us time to select\, notify successful entrants\, format\, request alterations\, print\, and matt. \nWhat are the dimensions/size? \n\nFor the purposes of selection\, please send digital images only but let us know if you have a print/matted version of the image available.\n6mb Max at full resolution. We will resize the image to the size required for the competition but we will let you know if you need to bump up the resolution.\n\nNaming the image file? \n\nThis is VERY IMPORTANT. We receive lots of photos for different competitions and projects. This helps us keep things organised.\nInterclub_Category_LastNameFirstName_Title\nI.e.Interclub_TheSea_BobJohn_OhNoABear\n\nWe advise avoiding sending any images from recent workshops\, PSNZ or otherwise. If you are a member of another Camera Club\, please make sure that the images that you submit to WPS have not been submitted to other clubs for their Interclub entry. \nGood Luck and Have Fun! \nNovember 17th\, doors open 12pm\, at the Tararua Tramping Club\, 4 Moncrieff St\, Mt Victoria.
URL:http://wps.wps.org.nz/event/interclub-print-battle-2024/
LOCATION:Tararua Tramping Club
CATEGORIES:Club Meetings,Meet Ups
END:VEVENT
END:VCALENDAR