BEGIN:VCALENDAR
VERSION:2.0
PRODID:-//WPS - Wellington Photographic Society - ECPv6.13.2.1//NONSGML v1.0//EN
CALSCALE:GREGORIAN
METHOD:PUBLISH
X-ORIGINAL-URL:http://wps.wps.org.nz
X-WR-CALDESC:Events for WPS - Wellington Photographic Society
REFRESH-INTERVAL;VALUE=DURATION:PT1H
X-Robots-Tag:noindex
X-PUBLISHED-TTL:PT1H
BEGIN:VTIMEZONE
TZID:Pacific/Auckland
BEGIN:STANDARD
TZOFFSETFROM:+1300
TZOFFSETTO:+1200
TZNAME:NZST
DTSTART:20240406T140000
END:STANDARD
BEGIN:DAYLIGHT
TZOFFSETFROM:+1200
TZOFFSETTO:+1300
TZNAME:NZDT
DTSTART:20240928T140000
END:DAYLIGHT
END:VTIMEZONE
BEGIN:VEVENT
DTSTART;TZID=Pacific/Auckland:20240822T190000
DTEND;TZID=Pacific/Auckland:20240822T210000
DTSTAMP:20260425T143144
CREATED:20240819T113802Z
LAST-MODIFIED:20240820T095254Z
UID:7043-1724353200-1724360400@wps.wps.org.nz
SUMMARY:Margaret Elliot - Underwater Photography
DESCRIPTION:Margaret is an accomplished artist\, adventurer\, underwater photographer\, traveller\, walker\, environmentalist and a Houghton Bay south-coast resident for many years. She can be found in all seasons snorkelling around Owhiro Bay\, Houghton Bay and Island Bay capturing the seasons\, the light\, the seaweed\, the plants and the creatures which inhabit the area. Her underwater world is also reproduced by paintings on canvas. Her next exploratory trip is to the Auckland Islands 450 km south of Bluff. \n22nd of August\, Tararua Tramping Club (4 Moncrieff St)\, Doors 7pm\, Members of the public are welcome \n 
URL:http://wps.wps.org.nz/event/margaret-elliot-underwater-photography/
CATEGORIES:Club Meetings
ATTACH;FMTTYPE=image/jpeg:http://wps.wps.org.nz/wp-content/uploads/2024/08/sime-basioli-BRkikoNP0KQ-unsplash-scaled-e1724147566746.jpg
END:VEVENT
END:VCALENDAR