BEGIN:VCALENDAR
VERSION:2.0
PRODID:-//WPS - Wellington Photographic Society - ECPv6.13.2.1//NONSGML v1.0//EN
CALSCALE:GREGORIAN
METHOD:PUBLISH
X-ORIGINAL-URL:http://wps.wps.org.nz
X-WR-CALDESC:Events for WPS - Wellington Photographic Society
REFRESH-INTERVAL;VALUE=DURATION:PT1H
X-Robots-Tag:noindex
X-PUBLISHED-TTL:PT1H
BEGIN:VTIMEZONE
TZID:Pacific/Auckland
BEGIN:STANDARD
TZOFFSETFROM:+1300
TZOFFSETTO:+1200
TZNAME:NZST
DTSTART:20240406T140000
END:STANDARD
BEGIN:DAYLIGHT
TZOFFSETFROM:+1200
TZOFFSETTO:+1300
TZNAME:NZDT
DTSTART:20240928T140000
END:DAYLIGHT
END:VTIMEZONE
BEGIN:VEVENT
DTSTART;TZID=Pacific/Auckland:20241012T100000
DTEND;TZID=Pacific/Auckland:20241012T113000
DTSTAMP:20260425T114524
CREATED:20241008T104152Z
LAST-MODIFIED:20241008T104152Z
UID:7071-1728727200-1728732600@wps.wps.org.nz
SUMMARY:World Press Photo Exhibition: Meetup
DESCRIPTION:We are planning a meetup to view the 2024 World Press Photo Exhibition.\n\nJoin us on Saturday morning\, 10am at the Asteron Centre\, Wellington Central\, near the Railway Station. Entry is $15 for adults.\n\nThe World Press Photo Foundation\, established in 1955\, is a leading organization in visual journalism. Its annual contest recognizes and rewards the best in photojournalism and documentary photography\, attracting entries from professional photographers worldwide.\n\nThe resulting exhibition tours over 40 countries\, showcasing powerful visual stories that capture the most pressing issues of our time.\nIf you are unable to join us\, the exhibition is running until 5pm Sunday 13th.
URL:http://wps.wps.org.nz/event/world-press-photo-exhibition-meetup/
CATEGORIES:Club Meetings,Meet Ups
ATTACH;FMTTYPE=image/jpeg:http://wps.wps.org.nz/wp-content/uploads/2024/10/WPP24-Banner-e1728384094838.jpg
END:VEVENT
END:VCALENDAR