BEGIN:VCALENDAR
VERSION:2.0
PRODID:-//WPS - Wellington Photographic Society - ECPv6.13.2.1//NONSGML v1.0//EN
CALSCALE:GREGORIAN
METHOD:PUBLISH
X-ORIGINAL-URL:https://wps.wps.org.nz
X-WR-CALDESC:Events for WPS - Wellington Photographic Society
REFRESH-INTERVAL;VALUE=DURATION:PT1H
X-Robots-Tag:noindex
X-PUBLISHED-TTL:PT1H
BEGIN:VTIMEZONE
TZID:Pacific/Auckland
BEGIN:STANDARD
TZOFFSETFROM:+1300
TZOFFSETTO:+1200
TZNAME:NZST
DTSTART:20230401T140000
END:STANDARD
BEGIN:DAYLIGHT
TZOFFSETFROM:+1200
TZOFFSETTO:+1300
TZNAME:NZDT
DTSTART:20230923T140000
END:DAYLIGHT
END:VTIMEZONE
BEGIN:VEVENT
DTSTART;TZID=Pacific/Auckland:20231111T143000
DTEND;TZID=Pacific/Auckland:20231111T170000
DTSTAMP:20260426T102731
CREATED:20231107T101205Z
LAST-MODIFIED:20231110T094702Z
UID:6840-1699713000-1699722000@wps.wps.org.nz
SUMMARY:Photography Scavenger Hunt
DESCRIPTION:Photography Scavenger Hunt \nA Photography Scavenger Hunt is a fun way to stretch your photography and creative skills alongside other Photographers. \nBut it is so much more than that. There will be 10 subjects/tasks to capture (revealed on the day). There will be a prize for best overall image and a random spot prize for a lucky photographer. Entries are via Instagram/Email\, we will provide more details on the day. \nAll skill levels are welcome\, all cameras are welcome. Film\, digital\, mobile\, point & shoot. There are no limits. \nTime & Place: We are meeting at the car park by the entrance to Bolton St Cemetery (behind Anderson Park) \n\nMeet-time: 2.30pm Date: 11th November \nEntry Details & Rules: Click Here \nWe will meet afterward at Sprig & Fern from 5pm to catch up and share some images with other photographers.
URL:https://wps.wps.org.nz/event/photography-scavenger-hunt/
LOCATION:Tararua Tramping Club
CATEGORIES:Club Meetings
ATTACH;FMTTYPE=image/jpeg:https://wps.wps.org.nz/wp-content/uploads/2023/11/pexels-vusal-ibadzade-1343221-scaled-e1699352472250.jpg
END:VEVENT
BEGIN:VEVENT
DTSTART;TZID=Pacific/Auckland:20231123T190000
DTEND;TZID=Pacific/Auckland:20231123T210000
DTSTAMP:20260426T102731
CREATED:20231115T073857Z
LAST-MODIFIED:20231115T075524Z
UID:6852-1700766000-1700773200@wps.wps.org.nz
SUMMARY:Why’s and How’s of Creative Black and White Photography
DESCRIPTION:This presentation will have three sections \n\nWhy Black and White\, and some How’s – Mark Berger\nBlack and White – from Camera\, to process\, to print – Glen Wheatley\nLow Key Black and White Photography – Rick Spencer\n\nThe presentations will include: \n\nWhy black and white photography is relevant\nWhat makes a strong black and white image?\nHow to set up your camera\n\nQuality of light and how to respond\nVisualising the scene\nUse of software for Black and White conversion and enhancement\n\nImages from Mark\, Glen\, and Rick.\nOther Resources
URL:https://wps.wps.org.nz/event/whys-and-hows-of-creative-black-and-white-photography/
LOCATION:TTC Tramping Hall\, 4 Moncrieff St\, Wellington\, North Island\, 6011\, New Zealand
CATEGORIES:Club Meetings,Meet Ups
ATTACH;FMTTYPE=image/jpeg:https://wps.wps.org.nz/wp-content/uploads/2023/11/pexels-jovydas-dobilas-3113541-scaled-e1700033868131.jpg
END:VEVENT
END:VCALENDAR