BEGIN:VCALENDAR
VERSION:2.0
PRODID:-//WPS - Wellington Photographic Society - ECPv6.13.2.1//NONSGML v1.0//EN
CALSCALE:GREGORIAN
METHOD:PUBLISH
X-ORIGINAL-URL:https://wps.wps.org.nz
X-WR-CALDESC:Events for WPS - Wellington Photographic Society
REFRESH-INTERVAL;VALUE=DURATION:PT1H
X-Robots-Tag:noindex
X-PUBLISHED-TTL:PT1H
BEGIN:VTIMEZONE
TZID:Pacific/Auckland
BEGIN:STANDARD
TZOFFSETFROM:+1300
TZOFFSETTO:+1200
TZNAME:NZST
DTSTART:20250405T140000
END:STANDARD
BEGIN:DAYLIGHT
TZOFFSETFROM:+1200
TZOFFSETTO:+1300
TZNAME:NZDT
DTSTART:20250927T140000
END:DAYLIGHT
END:VTIMEZONE
BEGIN:VEVENT
DTSTART;TZID=Pacific/Auckland:20250503T140000
DTEND;TZID=Pacific/Auckland:20250503T233000
DTSTAMP:20260425T081000
CREATED:20250414T084525Z
LAST-MODIFIED:20250414T092711Z
UID:7210-1746280800-1746315000@wps.wps.org.nz
SUMMARY:Astrophotography for beginners with Keith Molloy
DESCRIPTION:We’re hosting a tutorial on astrophotography. This will be run by the local astrophotographer Keith Molloy. \nThe cost will be $80 for members of the general public and $60 for Wellington Photographic Society members. Numbers are limited to 35 so get in quick. \nThe format for the day will be an indoor tutorial run by Keith followed by a practical session on the south coast that evening. The level will be targeted at both beginners and those looking to improve their skills. This is a fantastic opportunity to learn more about astrophotography. \nWe will have an alternate day for the practical session if the weather is not playing ball on the day. \nIf you want to know more about Keith then here is some information: \nI first took up photography about 30 years ago but became interested in astrophotography about 7 years ago. \nI enjoy photographing the Wellington region at night but I also get out to shoot the dark skies in the Wairarapa and further afield whenever I can. I love finding new interesting foregrounds to feature along with the night skies. \nI set up the Wellington Night Shooters Facebook group in 2021 which runs night photography meetups throughout the year and I enjoy sharing my knowledge with others. I also sell astrophotography via my own website and other photography work on Truestock. \nFind examples of Keith’s work at:\ninstagram.com/keithmolloy_photography\nfacebook.com/keithmolloyphotography
URL:https://wps.wps.org.nz/event/astrophotography-for-beginners-with-keith-molloy/
LOCATION:Tararua Tramping Club
CATEGORIES:Club Meetings,Meet Ups,Workshop
ATTACH;FMTTYPE=image/jpeg:https://wps.wps.org.nz/wp-content/uploads/2025/04/Keith-e1744620314333.jpg
ORGANIZER;CN="Shannon Doyle":MAILTO:doyleshannon@hotmail.com
END:VEVENT
BEGIN:VEVENT
DTSTART;TZID=Pacific/Auckland:20250508T190000
DTEND;TZID=Pacific/Auckland:20250508T210000
DTSTAMP:20260425T081000
CREATED:20250222T000649Z
LAST-MODIFIED:20250503T041649Z
UID:7158-1746730800-1746738000@wps.wps.org.nz
SUMMARY:Phil Greig -  Cinema\, Colour Grading & Digitisation
DESCRIPTION:Phil was born in Nelson\, New Zealand. Initially involved in arts\, music\, electronics and large scale stage productions he began his career in the Cinema Industry as a projectionist and technician. He moved on to work as a technical manager for some of New Zealands’ largest cinema chains before moving into the Film production industry in the late 1990’s. \nPhil had a number of years working for Oscar-winning Director/ Producer\, Peter Jackson as a Post Production film lab Technician\, Digital Intermediate specialist and projectionist before getting inspired to develop his own projects. Phil went on to develop R&D digital strategies\, working at the NZ film Archive. He now works full time as a producer\, film restorer/ editor and specialist audio and video digital technician\, in New Zealand’s vibrant film and entertainment industry. \nA New Zealand based professional photographer & Post Production technician. \nI started shooting weddings and doing modelling portfolios when I was 17. I lived in a small town & outgrew it quickly. Fortunately- I became a skilled cinema projectionist & with the sudden expansion of cinemas in the 90’s – along with my camera – I found myself moving around New Zealand – ending up in Wellington – just as ‘Lord of the Rings’ began production. \nAfter projecting over 20 thousand films – I took a leap of faith- & found myself working in the studios projection rooms and cutting takes on Hollywood films. I eventually became a VFX supervisor in an Oscar-winning team & an expert 35mm film colorist. \nBut I often used to say to people- I’m only good at this- because I learnt to take photos and develop them myself when I was 15. Every principal I was using – came from the camera lens or the dark room- experimenting over and over until I got it right. \nI noticed that the film industry was affecting (& improving) the way I was taking photos. Cinema requires drama or some sort of language in every frame. I felt the same should be applied to my photographs. While continuing to ‘Master Movies’ in my world class editing suite- I needed to separate my love of photography – and give it room to breathe on its own. \nIn 2017 I came up with the idea to create ‘PhilmHaus’ & the business was launched in early 2019.
URL:https://wps.wps.org.nz/event/phil-greig-cinema-colour-grading-digitisation/
LOCATION:Tararua Tramping Club
CATEGORIES:Club Meetings
ATTACH;FMTTYPE=image/jpeg:https://wps.wps.org.nz/wp-content/uploads/2025/02/Phil-Greig-2.jpg
ORGANIZER;CN="Shannon Doyle":MAILTO:doyleshannon@hotmail.com
END:VEVENT
BEGIN:VEVENT
DTSTART;TZID=Pacific/Auckland:20250522T190000
DTEND;TZID=Pacific/Auckland:20250522T210000
DTSTAMP:20260425T081000
CREATED:20250415T024524Z
LAST-MODIFIED:20250519T023042Z
UID:7218-1747940400-1747947600@wps.wps.org.nz
SUMMARY:Bruce Girdwood – How to prepare for a competition
DESCRIPTION:In this session\, Bruce will discuss what judges are looking for when they are assessing your images entered into a competition and give you some tips on how to select your images and prepare them for entry. \nTo demonstrate what judges are looking for\, Bruce would like some members to submit digital images for him to assess during his talk. If you would like to submit an image for this\, please e-mail it to comms@wps.org.nz. \nAbout Bruce:\nBruce is a Fellow of the Photographic Society of New Zealand and a PSNZ-accredited judge. For the last six years\, he has been Chair of the PSNZ Honours Board. He has also served for seven years on the PSNZ Judge Accreditation Panel\, including six as Chair. \nBruce played a pivotal role in developing and leading PSNZ’s Judge Training Programme. He has also served as a convenor of selectors for numerous national and regional exhibitions and has contributed to the selection of international exhibitions. \nBruce is an accomplished photographic tour leader\, workshop instructor\, and speaker\, sharing his expertise and creative insights across New Zealand. For Bruce\, photography is more than a visual art – it’s a deeply personal form of self-expression and storytelling\, capturing his journey of discovery and connection with the world.
URL:https://wps.wps.org.nz/event/bruce-girdwood-how-to-prepare/
LOCATION:Tararua Tramping Club
CATEGORIES:Club Meetings
END:VEVENT
END:VCALENDAR