BEGIN:VCALENDAR
VERSION:2.0
PRODID:-//WPS - Wellington Photographic Society - ECPv6.13.2.1//NONSGML v1.0//EN
CALSCALE:GREGORIAN
METHOD:PUBLISH
X-WR-CALNAME:WPS - Wellington Photographic Society
X-ORIGINAL-URL:https://wps.wps.org.nz
X-WR-CALDESC:Events for WPS - Wellington Photographic Society
REFRESH-INTERVAL;VALUE=DURATION:PT1H
X-Robots-Tag:noindex
X-PUBLISHED-TTL:PT1H
BEGIN:VTIMEZONE
TZID:Pacific/Auckland
BEGIN:STANDARD
TZOFFSETFROM:+1300
TZOFFSETTO:+1200
TZNAME:NZST
DTSTART:20250405T140000
END:STANDARD
BEGIN:DAYLIGHT
TZOFFSETFROM:+1200
TZOFFSETTO:+1300
TZNAME:NZDT
DTSTART:20250927T140000
END:DAYLIGHT
END:VTIMEZONE
BEGIN:VEVENT
DTSTART;TZID=Pacific/Auckland:20250710T190000
DTEND;TZID=Pacific/Auckland:20250710T210000
DTSTAMP:20260425T050528
CREATED:20250415T030122Z
LAST-MODIFIED:20251007T044438Z
UID:7226-1752174000-1752181200@wps.wps.org.nz
SUMMARY:Member 10x10
DESCRIPTION:For this meeting\, some of our members will be presenting a variety of images.\n\nFrom PSNZ Licentiate sets\, what they’ve been up to or work they admire – there is going to be a little bit of everything to see at this meeting.\nThis is a great chance to see the work of other members and how they approach different subjects\, and see how they get inspired by seeing the work of others.\n\nThursday July 10th – Doors open at 7pm @Tararua Tramping Club\, Doors Open 7pm
URL:https://wps.wps.org.nz/event/member-10x10/
CATEGORIES:Club Meetings,Meet Ups
ATTACH;FMTTYPE=image/jpeg:https://wps.wps.org.nz/wp-content/uploads/2025/04/pexels-digitech-1438761-scaled-e1744686067528.jpg
END:VEVENT
BEGIN:VEVENT
DTSTART;TZID=Pacific/Auckland:20250724T190000
DTEND;TZID=Pacific/Auckland:20250724T210000
DTSTAMP:20260425T050528
CREATED:20250415T025530Z
LAST-MODIFIED:20250703T101424Z
UID:7224-1753383600-1753390800@wps.wps.org.nz
SUMMARY:Projected Image Competition 2025
DESCRIPTION:This is the WPS Annual Competition for Projected Images which is open to all members of the society and is a great chance to share your work with other club members.\n\n\n\n\n\n\nEntry\n\nCategory: Open\nEntries Close: 30th of June\nEach member can submit up to three images.\nEntries should be sent to comms@wps.org.nz by midnight\, 30th of June.\nFile Specs: Full resolution under 5MB\nFile naming: Number\, First name\, Last Name\, Title (if any)\nColour Mode: RGB colour mode (not Grayscale)\nBit Depth: 8 bits/Channel\nColour Space: SRGB\nJPEG Format: Baseline (“Standard”)\nYour membership (Member Fees) must be current to enter this or any other WPS competitions.\n\nFile Naming\nTo avoid mixing up each member’s files\, each image should have a clear file naming structure. It just allows us to keep better track of the images. \n\nNumber_FirstName_Surname_Title.jpg\n\nEntry Rules\n\nAll elements must be the work of (or have been created by) the photographer (entrant).\nThe use of stock photography\, computer-rendered (and AI) or third party content (including skies\, borders or textures) is prohibited. \nAll content and images must be from original exposures made within 24 months of the entry closing date. This includes all composite elements of an image\, such as backgrounds\, skies\, textures and borders.\nImages must not have been entered into other Wellington Photographic Society competitions.\nImages captured\, retouched\, digitally edited or printed over the duration of a workshop\, seminar\, tutorial\, or similar\, where the primary focus is for education\, are ineligible\, irrespective of whether it was under the direct instruction of the presenter or not. This rule only applies to attendees of workshops\, tutorials and educational/training events. Instructors\, students\, emerging members\, and attendees of photo-tours where the primary focus is not educational\, are not restricted. If you have any questions\, regarding the entry or the rules please let us know. Exemptions may be granted in cases of sickness/extenuating circumstances (This will be on a case by case basis)\n\nThe meeting opens at 7:00pm\, presentation is likely to start from 7.15
URL:https://wps.wps.org.nz/event/projected-image-competition-2025/
LOCATION:Tararua Tramping Club
CATEGORIES:Club Meetings,Meet Ups
ATTACH;FMTTYPE=image/jpeg:https://wps.wps.org.nz/wp-content/uploads/2018/05/36551748224_4ab23483ef_k-e1744685695950.jpg
END:VEVENT
END:VCALENDAR