BEGIN:VCALENDAR
VERSION:2.0
PRODID:-//WPS - Wellington Photographic Society - ECPv6.13.2.1//NONSGML v1.0//EN
CALSCALE:GREGORIAN
METHOD:PUBLISH
X-ORIGINAL-URL:https://wps.wps.org.nz
X-WR-CALDESC:Events for WPS - Wellington Photographic Society
REFRESH-INTERVAL;VALUE=DURATION:PT1H
X-Robots-Tag:noindex
X-PUBLISHED-TTL:PT1H
BEGIN:VTIMEZONE
TZID:Pacific/Auckland
BEGIN:STANDARD
TZOFFSETFROM:+1300
TZOFFSETTO:+1200
TZNAME:NZST
DTSTART:20250405T140000
END:STANDARD
BEGIN:DAYLIGHT
TZOFFSETFROM:+1200
TZOFFSETTO:+1300
TZNAME:NZDT
DTSTART:20250927T140000
END:DAYLIGHT
END:VTIMEZONE
BEGIN:VEVENT
DTSTART;TZID=Pacific/Auckland:20250327T190000
DTEND;TZID=Pacific/Auckland:20250327T210000
DTSTAMP:20260424T190739
CREATED:20250323T013629Z
LAST-MODIFIED:20250323T104012Z
UID:7203-1743102000-1743109200@wps.wps.org.nz
SUMMARY:André Vroon - Architectural Photography
DESCRIPTION:André Vroon is a professional\, Wellington-based\, photographer specialising in imagery of the built environment – primarily commercial\, residential\, industrial and community spaces. He works for a diverse range of clients that includes architects\, builders\, interior designers\, product suppliers and property developers. His work (including a few personal projects) has been featured in magazines including HOME\, Defign\, Adventure\, Wilderness\, Australian Photography and D-Photo. \nAndré will be talking about: \n\nHow he got into photography in general\nWhy architectural photography?\nAn overview and demonstration of specialised gear used\nA few pointers on technique\nA case study of one of his recent projects\n\nAfter the presentation\, there will be some time for questions and a chance to ask some one-on-one questions.
URL:https://wps.wps.org.nz/event/andre-vroon-architectural-photography/
LOCATION:Tararua Tramping Club
CATEGORIES:Club Meetings,Exhibition
ATTACH;FMTTYPE=image/jpeg:https://wps.wps.org.nz/wp-content/uploads/2025/03/Holmes-Architecture-Krause-House-Wellington-023.jpg
END:VEVENT
END:VCALENDAR