BEGIN:VCALENDAR
VERSION:2.0
PRODID:-//WPS - Wellington Photographic Society - ECPv6.13.2.1//NONSGML v1.0//EN
CALSCALE:GREGORIAN
METHOD:PUBLISH
X-WR-CALNAME:WPS - Wellington Photographic Society
X-ORIGINAL-URL:https://wps.wps.org.nz
X-WR-CALDESC:Events for WPS - Wellington Photographic Society
REFRESH-INTERVAL;VALUE=DURATION:PT1H
X-Robots-Tag:noindex
X-PUBLISHED-TTL:PT1H
BEGIN:VTIMEZONE
TZID:Pacific/Auckland
BEGIN:STANDARD
TZOFFSETFROM:+1300
TZOFFSETTO:+1200
TZNAME:NZST
DTSTART:20240406T140000
END:STANDARD
BEGIN:DAYLIGHT
TZOFFSETFROM:+1200
TZOFFSETTO:+1300
TZNAME:NZDT
DTSTART:20240928T140000
END:DAYLIGHT
END:VTIMEZONE
BEGIN:VEVENT
DTSTART;TZID=Pacific/Auckland:20240217T080000
DTEND;TZID=Pacific/Auckland:20240218T170000
DTSTAMP:20260426T062425
CREATED:20240124T100303Z
LAST-MODIFIED:20240124T100303Z
UID:6884-1708156800-1708275600@wps.wps.org.nz
SUMMARY:Meetup: Otaki Kite Festival 2024
DESCRIPTION:A great event for all ages and a chance to get some spectacular images. This free\, family-friendly event\, is held on the beautiful Ōtaki Beach. It’s well worth to see the spectacular kites at New Zealand’s largest kite festival. \n\nSee world class kites of all shapes and sizes. Relax in the sun and enjoy the live entertainment or purchase a treasure from one of our stalls. Stay for lunch and sample the tasty treats from one of our food vendors or bring a picnic and watch the world go by. For the kids\, there are slides\, bouncy castles and our fabulous kite train. The Ōtaki Kite Festival has something for everyone\, join us to celebrate our 10th Anniversary. See you at the beach!!!\n\n17-18th of February\nMore information here: www.facebook.com/OtakiKiteFestival/
URL:https://wps.wps.org.nz/event/meetup-otaki-kite-festival-2024/
CATEGORIES:Meet Ups
ATTACH;FMTTYPE=image/png:https://wps.wps.org.nz/wp-content/uploads/2024/01/361619160_749734290492884_321713127022057211_n-e1706090559140.png
END:VEVENT
BEGIN:VEVENT
DTSTART;TZID=Pacific/Auckland:20240222T190000
DTEND;TZID=Pacific/Auckland:20240222T210000
DTSTAMP:20260426T062425
CREATED:20240219T085416Z
LAST-MODIFIED:20240219T085504Z
UID:6918-1708628400-1708635600@wps.wps.org.nz
SUMMARY:Debbie Rawson - Musician to Photographer
DESCRIPTION:Debbie Rawson is best known as a musician but has been pursuing the visual arts with equal dedication since the age of 12 when her father gave her a Box Brownie for Xmas. She graduated from The Photo School in 2007 and completed a post-grad dip in Photography and Applied Art at Te Auaha\, 2019. \nFor decades she has provided professional photographic services for her classical music colleagues and her images appear on CD covers\, musicians’ promotional material\, website photography and portraits. She has recently opened the Pariwhero Red Rocks Gallery on the South Coast of Wellington. The winner of several awards and competitions\, her interests are street photography\, documentary\, ethereal landscapes and portrait. \nHer presentation on Thursday is a study of reflections and alternative techniques. \nTo find out more about Debbie\, visit her website: https://pariwherogallery.co.nz/
URL:https://wps.wps.org.nz/event/debbie-rawson/
LOCATION:Tararua Tramping Club
CATEGORIES:Meet Ups
ATTACH;FMTTYPE=image/jpeg:https://wps.wps.org.nz/wp-content/uploads/2024/02/Edit-2-scaled-e1708332843232.jpg
END:VEVENT
END:VCALENDAR