BEGIN:VCALENDAR
VERSION:2.0
PRODID:-//WPS - Wellington Photographic Society - ECPv6.13.2.1//NONSGML v1.0//EN
CALSCALE:GREGORIAN
METHOD:PUBLISH
X-WR-CALNAME:WPS - Wellington Photographic Society
X-ORIGINAL-URL:https://wps.wps.org.nz
X-WR-CALDESC:Events for WPS - Wellington Photographic Society
REFRESH-INTERVAL;VALUE=DURATION:PT1H
X-Robots-Tag:noindex
X-PUBLISHED-TTL:PT1H
BEGIN:VTIMEZONE
TZID:Pacific/Auckland
BEGIN:STANDARD
TZOFFSETFROM:+1300
TZOFFSETTO:+1200
TZNAME:NZST
DTSTART:20240406T140000
END:STANDARD
BEGIN:DAYLIGHT
TZOFFSETFROM:+1200
TZOFFSETTO:+1300
TZNAME:NZDT
DTSTART:20240928T140000
END:DAYLIGHT
END:VTIMEZONE
BEGIN:VEVENT
DTSTART;TZID=Pacific/Auckland:20240427T090000
DTEND;TZID=Pacific/Auckland:20240427T120000
DTSTAMP:20260426T034513
CREATED:20240124T095318Z
LAST-MODIFIED:20240408T080012Z
UID:6879-1714208400-1714219200@wps.wps.org.nz
SUMMARY:Meetup: Zealandia
DESCRIPTION:Tucked up over the city of Wellington is Zealandia\, an ecosanctuary reminiscent of the days before humans arrived in New Zealand. \nZealandia is a great place to photograph more than just birds – there are invertebrates\, plants\, fungi\, and tuatara too (so you don’t need a huge long lens if you don’t have one). \nComing into autumn\, the sanctuary residents are gearing up for winter\, so we should be able to find plenty of birds looking for food. \nMeetup time and place:\nWe will meet in the foyer at 9am on Saturday 27th April. \nKeep in mind\, we do not have an official Zealandia guide for this meet-up\, but we do have a staff member who knows the sanctuary quite well  \nPlease RSVP to this meet-up as we need to determine if we have enough Zealandia members attending to get everyone in at half-price. Please indicate if you are a Zealandia member when RSVP’ing. \nRSVP Link:\nhttps://forms.gle/3DDYNSAkrbXmkSNZ8
URL:https://wps.wps.org.nz/event/meetup-zealandia/
CATEGORIES:Meet Ups
ATTACH;FMTTYPE=image/jpeg:https://wps.wps.org.nz/wp-content/uploads/2024/01/363431411_317339537522399_4267617869614262404_n-e1706091274293.jpg
END:VEVENT
END:VCALENDAR