BEGIN:VCALENDAR
VERSION:2.0
PRODID:-//WPS - Wellington Photographic Society - ECPv6.13.2.1//NONSGML v1.0//EN
CALSCALE:GREGORIAN
METHOD:PUBLISH
X-WR-CALNAME:WPS - Wellington Photographic Society
X-ORIGINAL-URL:https://wps.wps.org.nz
X-WR-CALDESC:Events for WPS - Wellington Photographic Society
REFRESH-INTERVAL;VALUE=DURATION:PT1H
X-Robots-Tag:noindex
X-PUBLISHED-TTL:PT1H
BEGIN:VTIMEZONE
TZID:Pacific/Auckland
BEGIN:STANDARD
TZOFFSETFROM:+1300
TZOFFSETTO:+1200
TZNAME:NZST
DTSTART:20250405T140000
END:STANDARD
BEGIN:DAYLIGHT
TZOFFSETFROM:+1200
TZOFFSETTO:+1300
TZNAME:NZDT
DTSTART:20250927T140000
END:DAYLIGHT
END:VTIMEZONE
BEGIN:VEVENT
DTSTART;TZID=Pacific/Auckland:20250605T180000
DTEND;TZID=Pacific/Auckland:20250605T193000
DTSTAMP:20260425T070832
CREATED:20250602T050251Z
LAST-MODIFIED:20250602T051155Z
UID:7283-1749146400-1749151800@wps.wps.org.nz
SUMMARY:Adam Art Gallery Exhibition Tour
DESCRIPTION:Evening exhibition tour: \nA Different Light and Things are\, they do not happen \nWe have a extra special meeting for everyone this week\, an outing to Te Pātaka Toi Adam Art Gallery\, Sophie Thorn\, Curator Collections at the gallery\, will open the gallery for us for an evening tour of two photo exhibitions currently on at the gallery: A Different Light: First Photographs of Aotearoa\, which presents a selection of some of the earliest photographs produced in Aotearoa\, dating from the 1850s to 1900\, and Things are\, they do not happen\, featuring the work of Adrienne Martyn and Sam Norton. \nMore information on these exhibitions is on the gallery’s website: https://www.adamartgallery.nz/exhibitions/current \nAdam Art Gallery\, Victoria University of Wellington\, Gate 3 Kelburn Parade\n(Entrance is just off Kelburn Parade\, just past the overbridge)\nThursday 5th of June: 6pm start (please arrive on time)
URL:https://wps.wps.org.nz/event/adam-art-gallery-exhibition-tour/
CATEGORIES:Meet Ups
ATTACH;FMTTYPE=image/png:https://wps.wps.org.nz/wp-content/uploads/2025/06/download-1-e1748840463669.png
END:VEVENT
BEGIN:VEVENT
DTSTART;TZID=Pacific/Auckland:20250626T190000
DTEND;TZID=Pacific/Auckland:20250626T210000
DTSTAMP:20260425T070832
CREATED:20250415T024743Z
LAST-MODIFIED:20250519T023441Z
UID:7222-1750964400-1750971600@wps.wps.org.nz
SUMMARY:Bruce Girdwood – Going for your PSNZ Honours
DESCRIPTION:Bruce Girdwood – Going for your PSNZ Honours \nThe Photographic Society of New Zealand (PSNZ) has a system of honours\, with three levels of distinctions – Licentiate\, Associateship and Fellowship.  Each level requires the photographer to demonstrate an increasing level of photographic competence and artistry. \nIn this session\, Bruce will give us an introduction to the PSNZ honours system – what it is\, the benefits of going for an honour\, what you have to do to submit\, and what is expected for a successful set. \nDuring his presentation\, Bruce will talk about some recent successful honours sets. He would also like to give feedback on some recent unsuccessful sets\, with coaching to help a future application. If you would be interested in having your unsuccessful set discussed\, please e-mail comms@wps.org.nz to let us know. \nAbout Bruce:\nBruce is a Fellow of the Photographic Society of New Zealand and a PSNZ accredited judge. For the last six years\, he has been Chair of the PSNZ Honours Board. He has also served for seven years on the PSNZ Judge Accreditation Panel\, including six as Chair. \nBruce played a pivotal role in developing and leading PSNZ’s Judge Training Programme. He has also served as a convenor of selectors for numerous national and regional exhibitions and has contributed to the selection of international exhibitions. \nBruce is an accomplished photographic tour leader\, workshop instructor\, and speaker\, sharing his expertise and creative insights across New Zealand. For Bruce\, photography is more than a visual art – it’s a deeply personal form of self-expression and storytelling\, capturing his journey of discovery and connection with the world.
URL:https://wps.wps.org.nz/event/bruce-girdwood-psnz-honors/
LOCATION:Tararua Tramping Club
CATEGORIES:Club Meetings,Meet Ups
END:VEVENT
END:VCALENDAR