BEGIN:VCALENDAR
VERSION:2.0
PRODID:-//WPS - Wellington Photographic Society - ECPv6.13.2.1//NONSGML v1.0//EN
CALSCALE:GREGORIAN
METHOD:PUBLISH
X-ORIGINAL-URL:https://wps.wps.org.nz
X-WR-CALDESC:Events for WPS - Wellington Photographic Society
REFRESH-INTERVAL;VALUE=DURATION:PT1H
X-Robots-Tag:noindex
X-PUBLISHED-TTL:PT1H
BEGIN:VTIMEZONE
TZID:Pacific/Auckland
BEGIN:STANDARD
TZOFFSETFROM:+1300
TZOFFSETTO:+1200
TZNAME:NZST
DTSTART:20250405T140000
END:STANDARD
BEGIN:DAYLIGHT
TZOFFSETFROM:+1200
TZOFFSETTO:+1300
TZNAME:NZDT
DTSTART:20250927T140000
END:DAYLIGHT
END:VTIMEZONE
BEGIN:VEVENT
DTSTART;TZID=Pacific/Auckland:20251012T120000
DTEND;TZID=Pacific/Auckland:20251012T150000
DTSTAMP:20260424T233530
CREATED:20250415T032132Z
LAST-MODIFIED:20251007T035940Z
UID:7242-1760270400-1760281200@wps.wps.org.nz
SUMMARY:Regional Interclub Battle
DESCRIPTION:Submissions for the Interclub Competition close Thursday 11th September. \nEntry\n\nEntries should be sent to comms@wps.org.nz by midnight\, 11th September 2025.\nFile Specs: Full resolution under 12MB\nFile naming: First name\, Last Name\, Title (if any)\nColour Mode: RGB colour mode (not Grayscale) \nBit Depth: 8 bits/Channel \nColour Space: SRGB \nJPEG Format: Baseline (“Standard”)  \n\nHosted by the Whanganui Camera Club on 12 October at their clubrooms in 2 Handley St from midday \nThe Wellington Interclub Print Battle is an annual competition between several photographic clubs in the lower North Island. \nWellington and Manawatu Club members are invited to come for either a 2 day weekend or just the Sunday afternoon Print Battle: Information Guide \nThe clubs participating in the 2025 competition are: \n\nKapiti Coast Photographic Society\nWellington Photographic Society\nWhanganui Camera Club\nJohnsonville Camera Club\nPorirua Photography Club\nManawatu Camera Club\n\nThe competition has ten rounds\, each with a different topic. The participating clubs are\nasked to select one image for each topic from the work of their members to be their entry\nfor that round. \nThe topics for 2025 are: \n\nDoorways\nUnderneath\nCurves\nDerelict and Abandoned\nHumanity\nBeauty in Nature\nUrban Jungle\nPanorama (At least twice as wide as high)\nGolden Hue\nPolyptychs (comprising from 2 to 9 images)\n\nMat sizes should be approximately 41×52 cm except for Panorama which can be up to 102cm\nwide (and 51 cm high). The print can be any size within the mat.\nImages must be by current members of the relevant club. \nProcedure:\nFor each round\, each club brings up their image for that topic and places it on the print\nstand for judging. The judge is asked to briefly comment on each image and then\nrank the entries in order. \nThe first-placed print is awarded one point\, the second-placed print is awarded two points\,\nand so on. At the end of the competition\, the club with the lowest cumulative score over the\nten rounds is declared the winner and is presented with a trophy\, which was donated by the\nKapiti Coast Photographic Society in 2008. \nThere is also the Stella Daniell Award presented to the individual photographer for the best\nabstract image across all the rounds\, as selected by the judge. The award is named in\nmemory of Stella Daniell\, who was a member of both the Wellington Photographic Society\nand the Karori Camera Club and was known for her abstract images. \nTraditionally\, the competition has been a fairly relaxed event.
URL:https://wps.wps.org.nz/event/regional-interclub-battle/
CATEGORIES:Club Meetings,Meet Ups
ATTACH;FMTTYPE=image/jpeg:https://wps.wps.org.nz/wp-content/uploads/2025/04/pexels-katlovessteve-545313-scaled-e1744687499294.jpg
END:VEVENT
END:VCALENDAR