BEGIN:VCALENDAR
VERSION:2.0
PRODID:-//WPS - Wellington Photographic Society - ECPv6.13.2.1//NONSGML v1.0//EN
CALSCALE:GREGORIAN
METHOD:PUBLISH
X-WR-CALNAME:WPS - Wellington Photographic Society
X-ORIGINAL-URL:https://wps.wps.org.nz
X-WR-CALDESC:Events for WPS - Wellington Photographic Society
REFRESH-INTERVAL;VALUE=DURATION:PT1H
X-Robots-Tag:noindex
X-PUBLISHED-TTL:PT1H
BEGIN:VTIMEZONE
TZID:Pacific/Auckland
BEGIN:STANDARD
TZOFFSETFROM:+1300
TZOFFSETTO:+1200
TZNAME:NZST
DTSTART:20240406T140000
END:STANDARD
BEGIN:DAYLIGHT
TZOFFSETFROM:+1200
TZOFFSETTO:+1300
TZNAME:NZDT
DTSTART:20240928T140000
END:DAYLIGHT
END:VTIMEZONE
BEGIN:VEVENT
DTSTART;TZID=Pacific/Auckland:20241128T190000
DTEND;TZID=Pacific/Auckland:20241128T203000
DTSTAMP:20260425T093617
CREATED:20241110T221716Z
LAST-MODIFIED:20241128T004000Z
UID:7103-1732820400-1732825800@wps.wps.org.nz
SUMMARY:AGM - 2024
DESCRIPTION:Notice of Annual General Meeting (AGM) of Wellington Photographic Society Inc\nThe date of the AGM is set for 28th November 2024. We are calling for any motions members want to put on the agenda as part of the AGM business\, and for nominations for officeholders and WPS Committee members. Any motion for a change to the WPS Rules must be sent to the Secretary by 25th of November. Information on committee roles and nomination forms can be obtained via email. \n \nSubmissions for Honorary Life Membership \nThe award of Honorary Life Membership recognizes current members of the Society who have demonstrated a long-term commitment to WPS as evidenced by active participation in\, the society\, and who have made a substantial contribution to the society. \nWellington Photographic Society\nEmail: comms@wps.org.nz \n\nMinutes of Annual General Meeting held in September 2023.\nPresidents Reports 2024\nTreasurers Report AGM 2024\nWPS Financial Statements for YE June 2024 (Plus Accountants Statement Sept 2024)\nFinancial review of accounts for the year ending 30 June 2024\nElection of officers and committee members for the year ending 30 June 2025.\nMembership subscription for the year ending 30 June 2025.\nOther business (Life Membership nomination – Kevin Cook) & Impact of the incoming Incorporated Societies Act)\nWPS Constitution & Rules\n\n2023 Reports for reference: \n\nMinutes of Annual General Meeting held in September 2022.\nPresidents Reports 2023\nTreasurers Report AGM 2023\nWPS Financial Statements for YE June 2024 (Plus Accountants Statement Sept 2024)\nFinancial review of accounts for the year ending 30 June 2023\nLife Membership Nomination – Syd Moore\n\nDate: 28 November  | Submissions Close: 25 November
URL:https://wps.wps.org.nz/event/agm-2024/
LOCATION:Tararua Tramping Club
END:VEVENT
END:VCALENDAR