BEGIN:VCALENDAR
VERSION:2.0
PRODID:-//WPS - Wellington Photographic Society - ECPv6.13.2.1//NONSGML v1.0//EN
CALSCALE:GREGORIAN
METHOD:PUBLISH
X-ORIGINAL-URL:https://wps.wps.org.nz
X-WR-CALDESC:Events for WPS - Wellington Photographic Society
REFRESH-INTERVAL;VALUE=DURATION:PT1H
X-Robots-Tag:noindex
X-PUBLISHED-TTL:PT1H
BEGIN:VTIMEZONE
TZID:Pacific/Auckland
BEGIN:STANDARD
TZOFFSETFROM:+1300
TZOFFSETTO:+1200
TZNAME:NZST
DTSTART:20250405T140000
END:STANDARD
BEGIN:DAYLIGHT
TZOFFSETFROM:+1200
TZOFFSETTO:+1300
TZNAME:NZDT
DTSTART:20250927T140000
END:DAYLIGHT
END:VTIMEZONE
BEGIN:VEVENT
DTSTART;TZID=Pacific/Auckland:20250612T190000
DTEND;TZID=Pacific/Auckland:20250612T210000
DTSTAMP:20260424T210552
CREATED:20250415T024631Z
LAST-MODIFIED:20250612T073156Z
UID:7220-1749754800-1749762000@wps.wps.org.nz
SUMMARY:Joseph Kelly - Advertising & Commercial Photography
DESCRIPTION:Joseph Kelly is an advertising & commercial photographer based in Wellington NZ. He strives to keep the narrative at the heart of his work\, focusing on a documentary style that transcends between his personal and commercial practices. \nJoseph’s talk will cover his recent experience documenting Ans Westra’s life at home late in life\, his work in the advertising & commercial photography world\, and the influence of his personal projects on his commercial work. \nFind out about Joseph on his website below:\nhttps://www.josephkelly.com/ \nThursday 12th of June: 7pm doors open\, Tararua Tramping Club\, Free Entry for members of the public
URL:https://wps.wps.org.nz/event/jo-kelly-advertising-commercial-photography/
LOCATION:TTC Tramping Hall\, 4 Moncrieff St\, Wellington\, North Island\, 6011\, New Zealand
CATEGORIES:Club Meetings
ATTACH;FMTTYPE=image/jpeg:https://wps.wps.org.nz/wp-content/uploads/2025/04/504932790_1017567647032988_7083148987102644662_n.jpg
END:VEVENT
END:VCALENDAR