BEGIN:VCALENDAR
VERSION:2.0
PRODID:-//WPS - Wellington Photographic Society - ECPv6.13.2.1//NONSGML v1.0//EN
CALSCALE:GREGORIAN
METHOD:PUBLISH
X-ORIGINAL-URL:https://wps.wps.org.nz
X-WR-CALDESC:Events for WPS - Wellington Photographic Society
REFRESH-INTERVAL;VALUE=DURATION:PT1H
X-Robots-Tag:noindex
X-PUBLISHED-TTL:PT1H
BEGIN:VTIMEZONE
TZID:Pacific/Auckland
BEGIN:STANDARD
TZOFFSETFROM:+1300
TZOFFSETTO:+1200
TZNAME:NZST
DTSTART:20250405T140000
END:STANDARD
BEGIN:DAYLIGHT
TZOFFSETFROM:+1200
TZOFFSETTO:+1300
TZNAME:NZDT
DTSTART:20250927T140000
END:DAYLIGHT
END:VTIMEZONE
BEGIN:VEVENT
DTSTART;TZID=Pacific/Auckland:20250828T190000
DTEND;TZID=Pacific/Auckland:20250828T210000
DTSTAMP:20260424T211524
CREATED:20250415T034638Z
LAST-MODIFIED:20250808T042521Z
UID:7255-1756407600-1756414800@wps.wps.org.nz
SUMMARY:Lindsay Keats – Documentary travel photography
DESCRIPTION:Lindsay Keats – Documentary travel photography \nLindsay Keats is a very experienced commercial and editorial photographer based in Wellington\, working on assignments as varied as food\, product\, aerial\, editorial\, corporate\, and industrial. Shooting personal projects has been important and Lindsay loves to travel and he is well known for his travel photography. For tonight’s meeting\, he will talk about documentary travel photography and show us some recent work. Lindsay is honoured to be an official Fujifilm X-Photographer and he will also bring along some of Fujifilm’s latest gear to show us. \nCheck out more of Lindsay’s work here: https://www.lindsaykeats.com/index \nAugust 28\, Tararua Tramping Club (4 Moncrieff St\, Mt Victoria)\, Doors Open at 7pm \nIf you’re curious about the Wellington Photographic Society\, you’re welcome to attend two meetings for free before deciding whether to join. It’s a great way to meet the community and see what we’re all about!https://wps.wps.org.nz/
URL:https://wps.wps.org.nz/event/lindsay-keats-documentary-travel-photography/
LOCATION:Tararua Tramping Club
CATEGORIES:Club Meetings
ATTACH;FMTTYPE=image/jpeg:https://wps.wps.org.nz/wp-content/uploads/2025/04/505091361_24310535815196979_518060729461675027_n-e1754626753672.jpg
END:VEVENT
END:VCALENDAR