BEGIN:VCALENDAR
VERSION:2.0
PRODID:-//WPS - Wellington Photographic Society - ECPv6.13.2.1//NONSGML v1.0//EN
CALSCALE:GREGORIAN
METHOD:PUBLISH
X-ORIGINAL-URL:https://wps.wps.org.nz
X-WR-CALDESC:Events for WPS - Wellington Photographic Society
REFRESH-INTERVAL;VALUE=DURATION:PT1H
X-Robots-Tag:noindex
X-PUBLISHED-TTL:PT1H
BEGIN:VTIMEZONE
TZID:Pacific/Auckland
BEGIN:STANDARD
TZOFFSETFROM:+1300
TZOFFSETTO:+1200
TZNAME:NZST
DTSTART:20260404T140000
END:STANDARD
BEGIN:DAYLIGHT
TZOFFSETFROM:+1200
TZOFFSETTO:+1300
TZNAME:NZDT
DTSTART:20260926T140000
END:DAYLIGHT
END:VTIMEZONE
BEGIN:VEVENT
DTSTART;TZID=Pacific/Auckland:20260326T190000
DTEND;TZID=Pacific/Auckland:20260326T210000
DTSTAMP:20260424T103009
CREATED:20260207T070541Z
LAST-MODIFIED:20260322T084803Z
UID:7429-1774551600-1774558800@wps.wps.org.nz
SUMMARY:Lindsay Keats – Travel photography
DESCRIPTION:Lindsay Keats – Travel photography\nMarch 26 @ 7:00 pm – 9:00 pm\, Tararua Tramping Club \nLindsay Keats will give us some tips and advice on the techniques for travel photography. As\nwell\, he will show us some images from his recent trip to Afghanistan. \nThe aim of this meeting is to set you up for going out on the following weekend to practise the\ntechniques and submit some images for Lindsay’s feedback when he to returns for our 9 April\nmeeting. \nLindsay is a very experienced commercial and editorial photographer based in Wellington\,\nworking on assignments as varied as food\, product\, aerial\, editorial\, corporate\, and industrial.\nShooting personal projects has been important and Lindsay loves to travel and he is well known\nfor his travel photography. \nMembers of the public are welcome to attendKoha is appreciated but not compulsory. \n 
URL:https://wps.wps.org.nz/event/regular-thursday-meeting-3/
LOCATION:TTC Tramping Hall\, 4 Moncrieff St\, Wellington\, North Island\, 6011\, New Zealand
CATEGORIES:Club Meetings
ATTACH;FMTTYPE=image/jpeg:https://wps.wps.org.nz/wp-content/uploads/2026/02/fit2040x2040.jpeg
END:VEVENT
BEGIN:VEVENT
DTSTART;TZID=Pacific/Auckland:20260328T100000
DTEND;TZID=Pacific/Auckland:20260328T150000
DTSTAMP:20260424T103009
CREATED:20260322T084225Z
LAST-MODIFIED:20260322T084225Z
UID:7518-1774692000-1774710000@wps.wps.org.nz
SUMMARY:Travel photography – Practising the techniques
DESCRIPTION:March 28/29\nTravel photography – Practising the techniques\nLocation – The streets of Wellington \nTo follow on from the session by Lindsay Keats on travel photography\, use this weekend’s events\nto practise the techniques Lindsay covered and produce some images to submit for feedback at our meeting on 9 April. \nWe suggest three options for suitable photographic opportunities: \n\nFujifilm Workshop: Street Photography at CubaDupa – Lindsay is running a paid workshop\nfor Fujifilm during the CubaDupa festival. Fujifilm is offering WPS members a 20% discount\non the $35 fee with the promo code FUJIWPS. Get more details and your ticket at\nhttps://www.eventbrite.co.nz/e/fujifilm-workshop-street-photography-at-cubadupa-tickets-\n1982128471616?aff=oddtdtcreator\nPhotograph independently at CubaDupa – Explore the photographic opportunities at\nCubaDupa\, either on your own or with a friend.\nPretend you’re a visitor to Wellington – Take to the streets of Wellington and act like a travel photographer visiting the city.\n\nAfter you’ve been out practising the techniques\, prepare some images to submit for Lindsay’s\nfeedback. We will call for images (and tell you how to submit) closer to the time.
URL:https://wps.wps.org.nz/event/travel-photography-practising-the-techniques/
CATEGORIES:Club Meetings,Meet Ups
ATTACH;FMTTYPE=image/webp:https://wps.wps.org.nz/wp-content/uploads/2026/03/CubaDupa.webp
END:VEVENT
END:VCALENDAR