BEGIN:VCALENDAR
VERSION:2.0
PRODID:-//WPS - Wellington Photographic Society - ECPv6.13.2.1//NONSGML v1.0//EN
CALSCALE:GREGORIAN
METHOD:PUBLISH
X-WR-CALNAME:WPS - Wellington Photographic Society
X-ORIGINAL-URL:https://wps.wps.org.nz
X-WR-CALDESC:Events for WPS - Wellington Photographic Society
REFRESH-INTERVAL;VALUE=DURATION:PT1H
X-Robots-Tag:noindex
X-PUBLISHED-TTL:PT1H
BEGIN:VTIMEZONE
TZID:Pacific/Auckland
BEGIN:STANDARD
TZOFFSETFROM:+1300
TZOFFSETTO:+1200
TZNAME:NZST
DTSTART:20240406T140000
END:STANDARD
BEGIN:DAYLIGHT
TZOFFSETFROM:+1200
TZOFFSETTO:+1300
TZNAME:NZDT
DTSTART:20240928T140000
END:DAYLIGHT
END:VTIMEZONE
BEGIN:VEVENT
DTSTART;TZID=Pacific/Auckland:20241010T190000
DTEND;TZID=Pacific/Auckland:20241010T210000
DTSTAMP:20260425T082634
CREATED:20240819T114302Z
LAST-MODIFIED:20241008T103835Z
UID:7047-1728586800-1728594000@wps.wps.org.nz
SUMMARY:Share your Favourites
DESCRIPTION:This Thursday’s meeting will be all about sharing some of your favourite work!\n\nWe would like each member to bring some of their favourite Photobooks along to share with other members. This could be a portfolio from your favourite photographer\, a technique book\, a selection of your personal work\, family photographs or even a particular zine that you appreciate. Perhaps you even have a favourite content creator you’d like to let others know about. Digital versions are welcome.\n\nWhatever it is\, come along and tell us about it. There’s nothing quite like learning from and sharing with others\, so let’s make it happen! If you don’t have any books or a project to share\, your input will be welcome anyway so come along too! We’re keen to keep providing a supportive community that helps and supports other photographers.\n\nIf you’re bringing digital content or images\, it would be best if you are able to bring your own device please \n\nSo\, come along and share your work\, projects\, inspiration or tips and tricks with us\nThursday 10th of November\, Tararua Tramping Club\, 4 Moncrieff St
URL:https://wps.wps.org.nz/event/favourites/
LOCATION:Tararua Tramping Club
CATEGORIES:Club Meetings
ATTACH;FMTTYPE=image/png:https://wps.wps.org.nz/wp-content/uploads/2024/08/Photobooks-e1728381277657.png
END:VEVENT
END:VCALENDAR